{
 "currentVersion": 10.91,
 "cimVersion": "2.9.0",
 "serviceDescription": "2003 spring ortho imagery map service created on 11/27/2019. Resolution at 6 inch pixel. Imagery produced by the Sanborn Company and purchased by Noble County Government. Maintained by the Noble County GIS Dept., Noble County, IN. Imagery source is Orthos2003.sde.ORTHOS2003 SQL geodatabase located in the SQL Server gisserver\\ncgisserver instance on the gisserver. Map service published from \\\\gisserver\\D\\ArcGISDataResources\\SitesTrial\\2003Orthos.mxd. Moved to ArcGIS sever on gisserver by SJH on 8/10/2021.",
 "mapName": "Layers",
 "description": "",
 "copyrightText": "Noble County GIS Dept., Noble County, IN 2021",
 "supportsDynamicLayers": true,
 "layers": [
  {
   "id": 0,
   "name": "Orthos2003.SDE.ORTHOS2003",
   "parentLayerId": -1,
   "defaultVisibility": true,
   "subLayerIds": null,
   "minScale": 0,
   "maxScale": 0,
   "type": "Raster Layer",
   "supportsDynamicLegends": true
  }
 ],
 "tables": [],
 "spatialReference": {
  "wkid": 2244,
  "latestWkid": 2965,
  "xyTolerance": 0.003280833333333333,
  "zTolerance": 2,
  "mTolerance": 2,
  "falseX": -18119800,
  "falseY": -45615400,
  "xyUnits": 1.3724607682899535E8,
  "falseZ": 0,
  "zUnits": 1,
  "falseM": -100000,
  "mUnits": 10000
 },
 "singleFusedMapCache": true,
 "tileInfo": {
  "rows": 256,
  "cols": 256,
  "dpi": 96,
  "format": "MIXED",
  "compressionQuality": 75,
  "origin": {
   "x": -18119800,
   "y": 20012700
  },
  "spatialReference": {
   "wkid": 2244,
   "latestWkid": 2965,
   "xyTolerance": 0.003280833333333333,
   "zTolerance": 0.001,
   "mTolerance": 0.001,
   "falseX": -18119800,
   "falseY": -45615400,
   "xyUnits": 1.3724607682899535E8,
   "falseZ": -100000,
   "zUnits": 10000,
   "falseM": -100000,
   "mUnits": 10000
  },
  "lods": [
   {
    "level": 0,
    "resolution": 217.01388888888889,
    "scale": 250000
   },
   {
    "level": 1,
    "resolution": 108.50694444444444,
    "scale": 125000
   },
   {
    "level": 2,
    "resolution": 55.55555555555555,
    "scale": 64000
   },
   {
    "level": 3,
    "resolution": 27.777777777777775,
    "scale": 32000
   },
   {
    "level": 4,
    "resolution": 13.888888888888888,
    "scale": 16000
   },
   {
    "level": 5,
    "resolution": 6.944444444444444,
    "scale": 8000
   },
   {
    "level": 6,
    "resolution": 3.472222222222222,
    "scale": 4000
   },
   {
    "level": 7,
    "resolution": 1.736111111111111,
    "scale": 2000
   },
   {
    "level": 8,
    "resolution": 0.8680555555555555,
    "scale": 1000
   },
   {
    "level": 9,
    "resolution": 0.43402777777777773,
    "scale": 500
   },
   {
    "level": 10,
    "resolution": 0.21701388888888887,
    "scale": 250
   }
  ]
 },
 "storageInfo": {
  "storageFormat": "esriMapCacheStorageModeCompactV2",
  "packetSize": 128
 },
 "initialExtent": {
  "xmin": 307457.16025820107,
  "ymin": 2214749.828010373,
  "xmax": 481542.8745439154,
  "ymax": 2303335.5422960874,
  "spatialReference": {
   "wkid": 2244,
   "latestWkid": 2965,
   "xyTolerance": 0.003280833333333333,
   "zTolerance": 2,
   "mTolerance": 2,
   "falseX": -18119800,
   "falseY": -45615400,
   "xyUnits": 1.3724607682899535E8,
   "falseZ": 0,
   "zUnits": 1,
   "falseM": -100000,
   "mUnits": 10000
  }
 },
 "fullExtent": {
  "xmin": 330000.0174010582,
  "ymin": 2189999.828010373,
  "xmax": 459000.0174010582,
  "ymax": 2288999.828010373,
  "spatialReference": {
   "wkid": 2244,
   "latestWkid": 2965,
   "xyTolerance": 0.003280833333333333,
   "zTolerance": 2,
   "mTolerance": 2,
   "falseX": -18119800,
   "falseY": -45615400,
   "xyUnits": 1.3724607682899535E8,
   "falseZ": 0,
   "zUnits": 1,
   "falseM": -100000,
   "mUnits": 10000
  }
 },
 "datesInUnknownTimezone": false,
 "minScale": 250000,
 "maxScale": 250,
 "minLOD": 0,
 "maxLOD": 10,
 "units": "esriFeet",
 "supportedImageFormatTypes": "PNG32,PNG24,PNG,JPG,DIB,TIFF,EMF,PS,PDF,GIF,SVG,SVGZ,BMP",
 "documentInfo": {
  "Title": "",
  "Author": "",
  "Comments": "2003 spring ortho imagery map service created on 11/27/2019. Resolution at 6 inch pixel. Imagery produced by the Sanborn Company and purchased by Noble County Government. Maintained by the Noble County GIS Dept., Noble County, IN. Imagery source is Orthos2003.sde.ORTHOS2003 SQL geodatabase located in the SQL Server gisserver\\ncgisserver instance on the gisserver. Map service published from \\\\gisserver\\D\\ArcGISDataResources\\SitesTrial\\2003Orthos.mxd. Moved to ArcGIS sever on gisserver by SJH on 8/10/2021.",
  "Subject": "2003 spring ortho imagery map service created on 11/27/2019. Used for various web applications.",
  "Category": "",
  "AntialiasingMode": "None",
  "TextAntialiasingMode": "Force",
  "Version": "10.1",
  "Keywords": "Spring Imagery,2003,Noble County,Indiana"
 },
 "supportsQueryDomains": true,
 "capabilities": "Map,Query,Data",
 "supportedQueryFormats": "JSON, geoJSON, PBF",
 "exportTilesAllowed": false,
 "referenceScale": 0.0,
 "supportsDatumTransformation": true,
 "archivingInfo": {
  "supportsHistoricMoment": false
 },
 "supportsClipping": true,
 "supportsSpatialFilter": true,
 "supportsTimeRelation": true,
 "supportsQueryDataElements": true,
 "maxRecordCount": 100000,
 "maxImageHeight": 4096,
 "maxImageWidth": 4096,
 "supportedExtensions": "KmlServer",
 "resampling": false,
 "serviceItemId": "cb7af9e261e3439e94a44a654e6c4eb7"
}
