{
 "currentVersion": 10.91,
 "serviceDescription": "Spring 2005 State Orthos prepared by Woolpert and obtained by the IGIC. Imagery resolution is 1 foot pixel. Map service published by SJH on 6/1/2021. Map service published from ArcGIS Server on ncgisserver from \\\\gisserver\\d\\ArcGISDataResources\\SitesTrial\\2005StateOrthos.mxd. Ortho imagery file located at \\\\gisserver\\d\\ArcGISDataResources\\SitesTrial\\2005 Imagery\\noble_cd.sid.",
 "mapName": "Layers",
 "description": "",
 "copyrightText": "IGIC, 2005. Noble County GIS Dept., 2021",
 "supportsDynamicLayers": true,
 "layers": [],
 "tables": [],
 "spatialReference": {
  "wkid": 2244,
  "latestWkid": 2965
 },
 "singleFusedMapCache": true,
 "tileInfo": {
  "rows": 256,
  "cols": 256,
  "dpi": 96,
  "format": "MIXED",
  "compressionQuality": 75,
  "origin": {
   "x": -18119800,
   "y": 20012700
  },
  "spatialReference": {
   "wkid": 2244,
   "latestWkid": 2965
  },
  "lods": [
   {
    "level": 0,
    "resolution": 217.01388888888889,
    "scale": 250000
   },
   {
    "level": 1,
    "resolution": 108.50694444444444,
    "scale": 125000
   },
   {
    "level": 2,
    "resolution": 55.55555555555555,
    "scale": 64000
   },
   {
    "level": 3,
    "resolution": 27.777777777777775,
    "scale": 32000
   },
   {
    "level": 4,
    "resolution": 13.888888888888888,
    "scale": 16000
   },
   {
    "level": 5,
    "resolution": 6.944444444444444,
    "scale": 8000
   },
   {
    "level": 6,
    "resolution": 3.472222222222222,
    "scale": 4000
   },
   {
    "level": 7,
    "resolution": 1.736111111111111,
    "scale": 2000
   },
   {
    "level": 8,
    "resolution": 0.8680555555555555,
    "scale": 1000
   },
   {
    "level": 9,
    "resolution": 0.43402777777777773,
    "scale": 500
   },
   {
    "level": 10,
    "resolution": 0.21701388888888887,
    "scale": 250
   }
  ]
 },
 "initialExtent": {
  "xmin": 292968.4971098265,
  "ymin": 2230789.5953757223,
  "xmax": 495031.5028901734,
  "ymax": 2297400,
  "spatialReference": {
   "wkid": 2244,
   "latestWkid": 2965
  }
 },
 "fullExtent": {
  "xmin": "NaN",
  "ymin": "NaN",
  "xmax": "NaN",
  "ymax": "NaN",
  "spatialReference": {
   "wkid": 2244,
   "latestWkid": 2965
  }
 },
 "minScale": 250000,
 "maxScale": 250,
 "minLOD": 0,
 "maxLOD": 10,
 "units": "esriFeet",
 "supportedImageFormatTypes": "PNG32,PNG24,PNG,JPG,DIB,TIFF,EMF,PS,PDF,GIF,SVG,SVGZ,BMP",
 "documentInfo": {
  "Title": "2005StateOrthos",
  "Author": "Steven Hook",
  "Comments": "2005 State Orthos prepared by Woolpert and obtained by the IGIC. Imagery resolution is 6 inch pixel. Map service published by SJH on 12/20/2019. Map service published from ArcGIS Server on ncgisserver from \\\\ncgisserver\\d$\\ArcGISDataResources\\SitesTrial\\2005StateOrthos.mxd. Ortho imagery file located at \\\\ncgisserver\\d$\\ArcGISDataResources\\SitesTrial\\2005 Imagery\\noble_cd.sid.",
  "Subject": "2005 State Orthos prepared by Woolpert and obtained by the IGIC. Imagery resolution is 6 inch pixel. Map service published by SJH on 12/20/2019.",
  "Category": "",
  "AntialiasingMode": "None",
  "TextAntialiasingMode": "Force",
  "Keywords": "Indiana,Noble County,Spring 2005 State Orthos"
 },
 "capabilities": "Map,Query,Data",
 "supportedQueryFormats": "JSON, geoJSON",
 "exportTilesAllowed": false,
 "referenceScale": 0,
 "supportsDatumTransformation": true,
 "maxRecordCount": 1000,
 "maxImageHeight": 4096,
 "maxImageWidth": 4096,
 "supportedExtensions": "KmlServer",
 "serviceItemId": "1320cccc1e40433785348fae243efad5"
}
