{
 "currentVersion": 10.91,
 "serviceDescription": "2012 State spring orthoimagery map service created on 11/26/2019 by SJH. Imagery provded by the IndianaMap, Indiana State GIO Office. Source imagery provided by the Orthos2012 database located in SQL Server gisserver\\ncgisserver instance on gisserver. Map service published from \\\\gisserver\\D\\ArcGISDataResources\\SitesTrial\\2012StateOrthos.mxd located on gisserver. Map service maintained by the Noble County GIS Dept., Noble County, IN. Updated by SJH on 7/21/2021.",
 "mapName": "Layers",
 "description": "",
 "copyrightText": "Noble County GIS Dept., Noble County, IN 2021",
 "supportsDynamicLayers": true,
 "layers": [
  {
   "id": 0,
   "name": "Orthos2012.SDE.ORTHOS2012",
   "parentLayerId": -1,
   "defaultVisibility": true,
   "subLayerIds": null,
   "minScale": 0,
   "maxScale": 0,
   "type": "Raster Layer"
  }
 ],
 "tables": [],
 "spatialReference": {
  "wkid": 2244,
  "latestWkid": 2965
 },
 "singleFusedMapCache": true,
 "tileInfo": {
  "rows": 256,
  "cols": 256,
  "dpi": 96,
  "format": "MIXED",
  "compressionQuality": 75,
  "origin": {
   "x": -18119800,
   "y": 20012700
  },
  "spatialReference": {
   "wkid": 2244,
   "latestWkid": 2965
  },
  "lods": [
   {
    "level": 0,
    "resolution": 217.01388888888889,
    "scale": 250000
   },
   {
    "level": 1,
    "resolution": 108.50694444444444,
    "scale": 125000
   },
   {
    "level": 2,
    "resolution": 55.55555555555555,
    "scale": 64000
   },
   {
    "level": 3,
    "resolution": 27.777777777777775,
    "scale": 32000
   },
   {
    "level": 4,
    "resolution": 13.888888888888888,
    "scale": 16000
   },
   {
    "level": 5,
    "resolution": 6.944444444444444,
    "scale": 8000
   },
   {
    "level": 6,
    "resolution": 3.472222222222222,
    "scale": 4000
   },
   {
    "level": 7,
    "resolution": 1.736111111111111,
    "scale": 2000
   },
   {
    "level": 8,
    "resolution": 0.8680555555555555,
    "scale": 1000
   },
   {
    "level": 9,
    "resolution": 0.43402777777777773,
    "scale": 500
   },
   {
    "level": 10,
    "resolution": 0.21701388888888887,
    "scale": 250
   }
  ]
 },
 "initialExtent": {
  "xmin": 320005.0526477853,
  "ymin": 2218675.5581211485,
  "xmax": 469994.98215433117,
  "ymax": 2294999.828010373,
  "spatialReference": {
   "wkid": 2244,
   "latestWkid": 2965
  }
 },
 "fullExtent": {
  "xmin": 330000.0174010582,
  "ymin": 2189999.828010373,
  "xmax": 460000.0174010582,
  "ymax": 2289999.828010373,
  "spatialReference": {
   "wkid": 2244,
   "latestWkid": 2965
  }
 },
 "minScale": 250000,
 "maxScale": 250,
 "minLOD": 0,
 "maxLOD": 10,
 "units": "esriFeet",
 "supportedImageFormatTypes": "PNG32,PNG24,PNG,JPG,DIB,TIFF,EMF,PS,PDF,GIF,SVG,SVGZ,BMP",
 "documentInfo": {
  "Title": "2012StateOrthos",
  "Author": "",
  "Comments": "2012 State spring orthoimagery map service created on 11/26/2019 by SJH.Imagery provded by the IndianaMap. Source imagery provided by the Orthos2012 database located in SQL Server gisserver\\ncgisserver instance on gisserver. Map service published from \\\\gisserver\\D\\ArcGISDataResources\\SitesTrial\\2012StateOrthos.mxd located on gisserver. Map service maintained by the Noble County GIS Dept., Noble County, IN. Updated by SJH on 7/21/2021.",
  "Subject": "2012 State spring orthoimagery map service created on 11/26/2019 by SJH. Updated by SJH on 7/21/2021.",
  "Category": "",
  "AntialiasingMode": "None",
  "TextAntialiasingMode": "Force",
  "Keywords": "Noble County,Indiana,2012 spring orthoimagery"
 },
 "capabilities": "Map,Query,Data",
 "supportedQueryFormats": "JSON, geoJSON",
 "exportTilesAllowed": false,
 "referenceScale": 0,
 "supportsDatumTransformation": true,
 "maxRecordCount": 1000,
 "maxImageHeight": 4096,
 "maxImageWidth": 4096,
 "supportedExtensions": "KmlServer",
 "serviceItemId": "ccfe4b1a2d004b9f9a3ad614f2bff875"
}
