{
 "currentVersion": 10.91,
 "serviceDescription": "2014 Spring orthos produced by Pictometry. Imagery resolution is 4 inch pixel. Map service created by SJH on 12/20/2019. Updated by SJH on 7/21/2021. Map service is published from MrSID files located at \\\\gisserver\\D\\ArcGISDataResources\\SitesTrial\\INNOBL14-SID-COMBINED-4INCH. Published to ArcGIS Server on gisserver using \\\\gisserver\\D\\ArcGISDataResources\\SitesTrial\\2014Orthos.mxd.",
 "mapName": "Layers",
 "description": "",
 "copyrightText": "Pictomery Corp., 2014. Noble County GIS Dept., 2021",
 "supportsDynamicLayers": true,
 "layers": [],
 "tables": [],
 "spatialReference": {
  "wkid": 2244,
  "latestWkid": 2965
 },
 "singleFusedMapCache": true,
 "tileInfo": {
  "rows": 256,
  "cols": 256,
  "dpi": 96,
  "format": "MIXED",
  "compressionQuality": 75,
  "origin": {
   "x": -18119800,
   "y": 20012700
  },
  "spatialReference": {
   "wkid": 2244,
   "latestWkid": 2965
  },
  "lods": [
   {
    "level": 0,
    "resolution": 217.01388888888889,
    "scale": 250000
   },
   {
    "level": 1,
    "resolution": 108.50694444444444,
    "scale": 125000
   },
   {
    "level": 2,
    "resolution": 55.55555555555555,
    "scale": 64000
   },
   {
    "level": 3,
    "resolution": 27.777777777777775,
    "scale": 32000
   },
   {
    "level": 4,
    "resolution": 13.888888888888888,
    "scale": 16000
   },
   {
    "level": 5,
    "resolution": 6.944444444444444,
    "scale": 8000
   },
   {
    "level": 6,
    "resolution": 3.472222222222222,
    "scale": 4000
   },
   {
    "level": 7,
    "resolution": 1.736111111111111,
    "scale": 2000
   },
   {
    "level": 8,
    "resolution": 0.8680555555555555,
    "scale": 1000
   },
   {
    "level": 9,
    "resolution": 0.43402777777777773,
    "scale": 500
   },
   {
    "level": 10,
    "resolution": 0.21701388888888887,
    "scale": 250
   }
  ]
 },
 "initialExtent": {
  "xmin": 317059.6896041851,
  "ymin": 2219320.245136942,
  "xmax": 468016.8449091607,
  "ymax": 2296136.700089031,
  "spatialReference": {
   "wkid": 2244,
   "latestWkid": 2965
  }
 },
 "fullExtent": {
  "xmin": "NaN",
  "ymin": "NaN",
  "xmax": "NaN",
  "ymax": "NaN",
  "spatialReference": {
   "wkid": 2244,
   "latestWkid": 2965
  }
 },
 "minScale": 250000,
 "maxScale": 250,
 "minLOD": 0,
 "maxLOD": 10,
 "units": "esriFeet",
 "supportedImageFormatTypes": "PNG32,PNG24,PNG,JPG,DIB,TIFF,EMF,PS,PDF,GIF,SVG,SVGZ,BMP",
 "documentInfo": {
  "Title": "2014Orthos",
  "Author": "Steven Hook",
  "Comments": "2014 Spring orthos produced by Pictometry. Imagery resolution is 4 inch pixel. Map service created by SJH on 12/20/2019. Updated by SJH on 7/21/2021. Map service is published from MrSID files located at \\\\gisserver\\D\\ArcGISDataResources\\SitesTrial\\INNOBL14-SID-COMBINED-4INCH. Published to ArcGIS Server on gisserver using \\\\gisserver\\D\\ArcGISDataResources\\SitesTrial\\2014Orthos.mxd.",
  "Subject": "2014 Spring orthos produced by Pictometry. Imagery resolution is 4 inch pixel. Map service created by SJH on 12/20/2019. Updated by SJH on 7/21/2021.",
  "Category": "",
  "AntialiasingMode": "None",
  "TextAntialiasingMode": "Force",
  "Keywords": "Indiana,Noble County,2014 Spring Orthos"
 },
 "capabilities": "Map,Query,Data",
 "supportedQueryFormats": "JSON, geoJSON",
 "exportTilesAllowed": false,
 "referenceScale": 0,
 "supportsDatumTransformation": true,
 "maxRecordCount": 1000,
 "maxImageHeight": 4096,
 "maxImageWidth": 4096,
 "supportedExtensions": "KmlServer",
 "serviceItemId": "3b702c14f24e4fd686520527a247069e"
}
