{
 "currentVersion": 10.91,
 "serviceDescription": "2017 ortho imagery map service created on 7/17/2019. Imagery licensed through Pictometry, Inc. Map service source files orginate at: \\\\gisserver\\D\\ArcGISDataResources\\SitesTrial\\INNOBL17-SID-3INCH. Map serviced published from: \\\\gisserver\\D\\ArcGISDataResources\\SitesTrial\\2017Orthos.mxd. Map service maintained by the Noble County GIS Dept., Noble County, IN. Updated by SJH on 7/22/2021.",
 "mapName": "Layers",
 "description": "",
 "copyrightText": "Noble County GIS Dept., Noble County, IN 2021",
 "supportsDynamicLayers": false,
 "layers": [],
 "tables": [],
 "spatialReference": {
  "wkid": 2244,
  "latestWkid": 2965
 },
 "singleFusedMapCache": true,
 "tileInfo": {
  "rows": 256,
  "cols": 256,
  "dpi": 96,
  "format": "MIXED",
  "compressionQuality": 75,
  "origin": {
   "x": -18119800,
   "y": 20012700
  },
  "spatialReference": {
   "wkid": 2244,
   "latestWkid": 2965
  },
  "lods": [
   {
    "level": 0,
    "resolution": 217.01388888888889,
    "scale": 250000
   },
   {
    "level": 1,
    "resolution": 108.50694444444444,
    "scale": 125000
   },
   {
    "level": 2,
    "resolution": 55.55555555555555,
    "scale": 64000
   },
   {
    "level": 3,
    "resolution": 27.777777777777775,
    "scale": 32000
   },
   {
    "level": 4,
    "resolution": 13.888888888888888,
    "scale": 16000
   },
   {
    "level": 5,
    "resolution": 6.944444444444444,
    "scale": 8000
   },
   {
    "level": 6,
    "resolution": 3.472222222222222,
    "scale": 4000
   },
   {
    "level": 7,
    "resolution": 1.736111111111111,
    "scale": 2000
   },
   {
    "level": 8,
    "resolution": 0.8680555555555555,
    "scale": 1000
   },
   {
    "level": 9,
    "resolution": 0.43402777777777773,
    "scale": 500
   },
   {
    "level": 10,
    "resolution": 0.21701388888888887,
    "scale": 250
   }
  ]
 },
 "initialExtent": {
  "xmin": 317059.5052366563,
  "ymin": 2219320.010259315,
  "xmax": 468017.2447633437,
  "ymax": 2296136.7624999997,
  "spatialReference": {
   "wkid": 2244,
   "latestWkid": 2965
  }
 },
 "fullExtent": {
  "xmin": "NaN",
  "ymin": "NaN",
  "xmax": "NaN",
  "ymax": "NaN",
  "spatialReference": {
   "wkid": 2244,
   "latestWkid": 2965
  }
 },
 "minScale": 250000,
 "maxScale": 250,
 "minLOD": 0,
 "maxLOD": 10,
 "units": "esriFeet",
 "supportedImageFormatTypes": "PNG32,PNG24,PNG,JPG,DIB,TIFF,EMF,PS,PDF,GIF,SVG,SVGZ,BMP",
 "documentInfo": {
  "Title": "",
  "Author": "",
  "Comments": "2017 ortho imagery map service created on 7/17/2019. Imagery licensed through Pictometry, Inc. Map service source files orginate at: \\\\gisserver\\D\\ArcGISDataResources\\SitesTrial\\INNOBL17-SID-3INCH. Map serviced published from: \\\\gisserver\\D\\ArcGISDataResources\\SitesTrial\\2017Orthos.mxd. Map service maintained by the Noble County GIS Dept., Noble County, IN. Updated by SJH on 7/22/2021.",
  "Subject": "2017 ortho imagery map service created on 7/17/2019. Resolution is at 3 inch pixel. Created by Pictometry.",
  "Category": "",
  "AntialiasingMode": "None",
  "TextAntialiasingMode": "Force",
  "Keywords": "Noble County,Indiana,2017 ortho imagery"
 },
 "capabilities": "Map,Query,Data",
 "supportedQueryFormats": "JSON, geoJSON",
 "exportTilesAllowed": false,
 "referenceScale": 0,
 "supportsDatumTransformation": true,
 "maxRecordCount": 1000,
 "maxImageHeight": 4096,
 "maxImageWidth": 4096,
 "supportedExtensions": "KmlServer",
 "serviceItemId": "ed0c3b5f51f940cab97c2f23bf49ae8f"
}
