{
 "currentVersion": 10.91,
 "serviceDescription": "Imagery produced by Pictometry in the spring of 2020. Resolution is 3 inch pixel. Maintained by the Noble County GIS Department. Map service is published using \\\\gisserver\\D\\ArcGISDataResources\\SitesTrial\\2020SpringOrthos.mxd. Imagery files are stored at \\\\gisserver\\D\\ArcGISDataResources\\SitesTrial\\INNOBL20-SID-3INCH. Map service resides on the gisserver. Map service updated by SJH on 7/22/2021.",
 "mapName": "Layers",
 "description": "",
 "copyrightText": "Pictometry Corp., 2020. Noble County GIS Dept., 2021",
 "supportsDynamicLayers": true,
 "layers": [],
 "tables": [],
 "spatialReference": {
  "wkid": 2244,
  "latestWkid": 2965
 },
 "singleFusedMapCache": true,
 "tileInfo": {
  "rows": 256,
  "cols": 256,
  "dpi": 96,
  "format": "MIXED",
  "compressionQuality": 75,
  "origin": {
   "x": -18119800,
   "y": 20012700
  },
  "spatialReference": {
   "wkid": 2244,
   "latestWkid": 2965
  },
  "lods": [
   {
    "level": 0,
    "resolution": 217.01388888888889,
    "scale": 250000
   },
   {
    "level": 1,
    "resolution": 108.50694444444444,
    "scale": 125000
   },
   {
    "level": 2,
    "resolution": 55.55555555555555,
    "scale": 64000
   },
   {
    "level": 3,
    "resolution": 27.777777777777775,
    "scale": 32000
   },
   {
    "level": 4,
    "resolution": 13.888888888888888,
    "scale": 16000
   },
   {
    "level": 5,
    "resolution": 6.944444444444444,
    "scale": 8000
   },
   {
    "level": 6,
    "resolution": 3.472222222222222,
    "scale": 4000
   },
   {
    "level": 7,
    "resolution": 1.736111111111111,
    "scale": 2000
   },
   {
    "level": 8,
    "resolution": 0.8680555555555555,
    "scale": 1000
   },
   {
    "level": 9,
    "resolution": 0.43402777777777773,
    "scale": 500
   },
   {
    "level": 10,
    "resolution": 0.21701388888888887,
    "scale": 250
   }
  ]
 },
 "initialExtent": {
  "xmin": 322745.10591810854,
  "ymin": 2219210.631016553,
  "xmax": 469254.8940364462,
  "ymax": 2293763.9870088235,
  "spatialReference": {
   "wkid": 2244,
   "latestWkid": 2965
  }
 },
 "fullExtent": {
  "xmin": "NaN",
  "ymin": "NaN",
  "xmax": "NaN",
  "ymax": "NaN",
  "spatialReference": {
   "wkid": 2244,
   "latestWkid": 2965
  }
 },
 "minScale": 250000,
 "maxScale": 250,
 "minLOD": 0,
 "maxLOD": 10,
 "units": "esriFeet",
 "supportedImageFormatTypes": "PNG32,PNG24,PNG,JPG,DIB,TIFF,EMF,PS,PDF,GIF,SVG,SVGZ,BMP",
 "documentInfo": {
  "Title": "2020 Spring Orthos",
  "Author": "Steven Hook",
  "Comments": "Imagery produced by Pictometry in the spring of 2020. Resolution is 3 inch pixel. Maintained by the Noble County GIS Department. Map service is published using \\\\gisserver\\D\\ArcGISDataResources\\SitesTrial\\2020SpringOrthos.mxd. Imagery files are stored at \\\\gisserver\\D\\ArcGISDataResources\\SitesTrial\\INNOBL20-SID-3INCH. Map service resides on the gisserver. Map service updated by SJH on 7/22/2021.",
  "Subject": "Imagery produced by Pictometry in the spring of 2020. Resolution is 3 inch pixel.",
  "Category": "",
  "AntialiasingMode": "None",
  "TextAntialiasingMode": "Force",
  "Keywords": "Indiana,Noble County,2020 Spring Imagery"
 },
 "capabilities": "Map,Query,Data",
 "supportedQueryFormats": "JSON, geoJSON",
 "exportTilesAllowed": false,
 "referenceScale": 0,
 "supportsDatumTransformation": true,
 "maxRecordCount": 1000,
 "maxImageHeight": 4096,
 "maxImageWidth": 4096,
 "supportedExtensions": "KmlServer",
 "serviceItemId": "b80270de3a4e43108ac8e24f462e5f68"
}
