{
 "currentVersion": 10.91,
 "serviceDescription": "Spring 2021 imagery produced by Eagle View (Pictometry). Resolution is 2 inch pixel, 3 band. Maintained by the Noble County GIS Department. Map service is published using \\\\gisserver\\d\\ArcGISDataResources\\SitesTrial\\2021SpringOrthos.mxd. Imagery files are stored at \\\\gisserver\\d\\ArcGISDataResources\\SitesTrial\\INNOBL21-SID-2INCH. Map service resides on the ncgisserver. Map service created by SJH on 7/2/2021.",
 "mapName": "Layers",
 "description": "",
 "copyrightText": "Eagle View., 2021. Noble County GIS Dept., 2021",
 "supportsDynamicLayers": true,
 "layers": [
  {
   "id": 0,
   "name": "2021 Orthos Spring (County - 2 inch)",
   "parentLayerId": -1,
   "defaultVisibility": true,
   "subLayerIds": [
    1,
    2,
    3,
    4,
    5,
    6,
    7,
    8
   ],
   "minScale": 0,
   "maxScale": 0,
   "type": "Group Layer"
  },
  {
   "id": 1,
   "name": "33132E220176N.sid",
   "parentLayerId": 0,
   "defaultVisibility": true,
   "subLayerIds": null,
   "minScale": 0,
   "maxScale": 0,
   "type": "Raster Layer"
  },
  {
   "id": 2,
   "name": "33132E224400N.sid",
   "parentLayerId": 0,
   "defaultVisibility": true,
   "subLayerIds": null,
   "minScale": 0,
   "maxScale": 0,
   "type": "Raster Layer"
  },
  {
   "id": 3,
   "name": "36300E219120N.sid",
   "parentLayerId": 0,
   "defaultVisibility": true,
   "subLayerIds": null,
   "minScale": 0,
   "maxScale": 0,
   "type": "Raster Layer"
  },
  {
   "id": 4,
   "name": "36300E223872N.sid",
   "parentLayerId": 0,
   "defaultVisibility": true,
   "subLayerIds": null,
   "minScale": 0,
   "maxScale": 0,
   "type": "Raster Layer"
  },
  {
   "id": 5,
   "name": "39468E219120N.sid",
   "parentLayerId": 0,
   "defaultVisibility": true,
   "subLayerIds": null,
   "minScale": 0,
   "maxScale": 0,
   "type": "Raster Layer"
  },
  {
   "id": 6,
   "name": "39468E223872N.sid",
   "parentLayerId": 0,
   "defaultVisibility": true,
   "subLayerIds": null,
   "minScale": 0,
   "maxScale": 0,
   "type": "Raster Layer"
  },
  {
   "id": 7,
   "name": "42636E219120N.sid",
   "parentLayerId": 0,
   "defaultVisibility": true,
   "subLayerIds": null,
   "minScale": 0,
   "maxScale": 0,
   "type": "Raster Layer"
  },
  {
   "id": 8,
   "name": "42636E223872N.sid",
   "parentLayerId": 0,
   "defaultVisibility": true,
   "subLayerIds": null,
   "minScale": 0,
   "maxScale": 0,
   "type": "Raster Layer"
  }
 ],
 "tables": [],
 "spatialReference": {
  "wkid": 2244,
  "latestWkid": 2965
 },
 "singleFusedMapCache": true,
 "tileInfo": {
  "rows": 256,
  "cols": 256,
  "dpi": 96,
  "format": "MIXED",
  "compressionQuality": 75,
  "origin": {
   "x": -18119800,
   "y": 20012700
  },
  "spatialReference": {
   "wkid": 2244,
   "latestWkid": 2965
  },
  "lods": [
   {
    "level": 0,
    "resolution": 217.01388888888889,
    "scale": 250000
   },
   {
    "level": 1,
    "resolution": 108.50694444444444,
    "scale": 125000
   },
   {
    "level": 2,
    "resolution": 55.55555555555555,
    "scale": 64000
   },
   {
    "level": 3,
    "resolution": 27.777777777777775,
    "scale": 32000
   },
   {
    "level": 4,
    "resolution": 13.888888888888888,
    "scale": 16000
   },
   {
    "level": 5,
    "resolution": 6.944444444444444,
    "scale": 8000
   },
   {
    "level": 6,
    "resolution": 3.472222222222222,
    "scale": 4000
   },
   {
    "level": 7,
    "resolution": 1.736111111111111,
    "scale": 2000
   },
   {
    "level": 8,
    "resolution": 0.8680555555555555,
    "scale": 1000
   },
   {
    "level": 9,
    "resolution": 0.43402777777777773,
    "scale": 500
   },
   {
    "level": 10,
    "resolution": 0.21701388888888887,
    "scale": 250
   }
  ]
 },
 "initialExtent": {
  "xmin": 315135.8517860167,
  "ymin": 2223904.362730027,
  "xmax": 476863.9841345033,
  "ymax": 2293763.991764351,
  "spatialReference": {
   "wkid": 2244,
   "latestWkid": 2965
  }
 },
 "fullExtent": {
  "xmin": 331319.999999995,
  "ymin": 2191200.164713075,
  "xmax": 460679.83592052496,
  "ymax": 2288880.0000000047,
  "spatialReference": {
   "wkid": 2244,
   "latestWkid": 2965
  }
 },
 "minScale": 250000,
 "maxScale": 250,
 "minLOD": 0,
 "maxLOD": 10,
 "units": "esriFeet",
 "supportedImageFormatTypes": "PNG32,PNG24,PNG,JPG,DIB,TIFF,EMF,PS,PDF,GIF,SVG,SVGZ,BMP",
 "documentInfo": {
  "Title": "2021 Spring Orthos",
  "Author": "Steven Hook",
  "Comments": "Spring 2021 imagery produced by Eagle View (Pictometry). Resolution is 2 inch pixel, 3 band. Maintained by the Noble County GIS Department. Map service is published using \\\\ncgisserver\\d$\\ArcGISDataResources\\SitesTrial\\2021SpringOrthos.mxd. Imagery files are stored at \\\\ncgisserver\\d$\\ArcGISDataResources\\SitesTrial\\INNOBL21-SID-2INCH. Map service resides on the ncgisserver.",
  "Subject": "Spring 2021 imagery produced by Eagle View (Pictometry). Resolution is 2 inch pixel, 3 band.",
  "Category": "",
  "AntialiasingMode": "None",
  "TextAntialiasingMode": "Force",
  "Keywords": "Indiana,Noble County,2021 Spring Imagery"
 },
 "capabilities": "Map,Query,Data",
 "supportedQueryFormats": "JSON, geoJSON",
 "exportTilesAllowed": false,
 "referenceScale": 0,
 "supportsDatumTransformation": true,
 "maxRecordCount": 100000,
 "maxImageHeight": 4096,
 "maxImageWidth": 4096,
 "supportedExtensions": "KmlServer",
 "resampling": false,
 "serviceItemId": "d23ef85a01e34a039597c29f22003fb1"
}
