{
 "currentVersion": 10.91,
 "serviceDescription": "Spring 2022 imagery produced by Sanborn, Inc. on be half of the State Geographic Information Office. Resolution is 6 inch pixel, 4-band color. Maintained by the Noble County GIS Department. Image service is published using the following ArcGIS Pro project map:\n\\\\gisserver\\D:\\ArcGISDataResources\\SitesTrial\\2022SpringOrthos_State/2022SpringOrthos_State.aprx. Imagery stored at \\\\gisserver\\D:\\ArcGISDataResources\\SitesTrial\\2022SpringOrthos_State\\Default.gdb. Map service resides in ArcGIS Enterprise ArcGIS Server on the gisserver. Image service published through the Catalog View from the raster dataset stored within the Default.gdb. Image service created by SJH on 10/04/2023.",
 "name": "2022SpringOrthosState",
 "description": "Spring 2022 imagery produced by Sanborn, Inc. on be half of the State Geographic Information Office. Resolution is 6 inch pixel, 4-band color. Maintained by the Noble County GIS Department. Image service is published using the following ArcGIS Pro project map:\n\\\\gisserver\\D:\\ArcGISDataResources\\SitesTrial\\2022SpringOrthos_State/2022SpringOrthos_State.aprx. Imagery stored at \\\\gisserver\\D:\\ArcGISDataResources\\SitesTrial\\2022SpringOrthos_State\\Default.gdb. Map service resides in ArcGIS Enterprise ArcGIS Server on the gisserver. Image service published through the Catalog View from the raster dataset stored within the Default.gdb. Image service created by SJH on 10/04/2023.",
 "extent": {
  "xmin": 327500.0174010582,
  "ymin": 2187499.828010373,
  "xmax": 462500.0174010582,
  "ymax": 2289999.828010373,
  "spatialReference": {
   "wkid": 2967,
   "latestWkid": 2967
  }
 },
 "initialExtent": {
  "xmin": 327500.0174010582,
  "ymin": 2187499.828010373,
  "xmax": 462500.0174010582,
  "ymax": 2289999.828010373,
  "spatialReference": {
   "wkid": 2967,
   "latestWkid": 2967
  }
 },
 "fullExtent": {
  "xmin": 327500.0174010582,
  "ymin": 2187499.828010373,
  "xmax": 462500.0174010582,
  "ymax": 2289999.828010373,
  "spatialReference": {
   "wkid": 2967,
   "latestWkid": 2967
  }
 },
 "hasMultidimensions": false,
 "pixelSizeX": 0.5,
 "pixelSizeY": 0.5,
 "datasetFormat": "FGDBR",
 "uncompressedSize": 221400000000,
 "blockWidth": 128,
 "blockHeight": 128,
 "compressionType": "JPEG",
 "bandNames": [
  "Band_1",
  "Band_2",
  "Band_3",
  "Band_4"
 ],
 "allowCopy": true,
 "allowAnalysis": true,
 "bandCount": 4,
 "pixelType": "U8",
 "minPixelSize": 0,
 "maxPixelSize": 0,
 "copyrightText": "Procured by the Indiana Geographic Information Office (IGIO) and produced by Sanborn, Inc., 2022. Published by Noble County GIS Dept., Noble County, IN, 2024.",
 "serviceDataType": "esriImageServiceDataTypeGeneric",
 "serviceSourceType": "esriImageServiceSourceTypeDataset",
 "minValues": [],
 "maxValues": [],
 "meanValues": [],
 "stdvValues": [],
 "objectIdField": "",
 "fields": [],
 "capabilities": "Mensuration,Image,Metadata",
 "defaultMosaicMethod": "Center",
 "allowedMosaicMethods": "",
 "sortField": "",
 "sortValue": null,
 "sortAscending": true,
 "mosaicOperator": "First",
 "defaultCompressionQuality": 75,
 "defaultResamplingMethod": "Bilinear",
 "maxImageHeight": 4100,
 "maxImageWidth": 15000,
 "singleFusedMapCache": true,
 "tileInfo": {
  "rows": 256,
  "cols": 256,
  "dpi": 96,
  "format": "MIXED",
  "compressionQuality": 75,
  "origin": {
   "x": -18119800,
   "y": 20012700
  },
  "spatialReference": {
   "wkid": 2967,
   "latestWkid": 2967
  },
  "lods": [
   {
    "level": 0,
    "resolution": 217.01388888888889,
    "scale": 250000
   },
   {
    "level": 1,
    "resolution": 108.50694444444444,
    "scale": 125000
   },
   {
    "level": 2,
    "resolution": 55.55555555555555,
    "scale": 64000
   },
   {
    "level": 3,
    "resolution": 27.777777777777775,
    "scale": 32000
   },
   {
    "level": 4,
    "resolution": 13.888888888888888,
    "scale": 16000
   },
   {
    "level": 5,
    "resolution": 6.944444444444444,
    "scale": 8000
   },
   {
    "level": 6,
    "resolution": 3.472222222222222,
    "scale": 4000
   },
   {
    "level": 7,
    "resolution": 1.736111111111111,
    "scale": 2000
   },
   {
    "level": 8,
    "resolution": 0.8680555555555555,
    "scale": 1000
   },
   {
    "level": 9,
    "resolution": 0.43402777777777773,
    "scale": 500
   },
   {
    "level": 10,
    "resolution": 0.1953125,
    "scale": 225
   }
  ]
 },
 "storageInfo": {
  "storageFormat": "esriMapCacheStorageModeCompactV2",
  "packetSize": 128
 },
 "cacheType": "Map",
 "allowRasterFunction": true,
 "rasterFunctionInfos": [
  {
   "name": "None",
   "description": "",
   "help": ""
  }
 ],
 "rasterTypeInfos": [
  {
   "name": "Raster Dataset",
   "description": "Supports all ArcGIS Raster Datasets",
   "help": ""
  }
 ],
 "mensurationCapabilities": "Basic",
 "hasHistograms": false,
 "hasColormap": false,
 "hasRasterAttributeTable": false,
 "minScale": 0,
 "maxScale": 0,
 "minLOD": 0,
 "maxLOD": 10,
 "exportTilesAllowed": false,
 "supportsStatistics": false,
 "supportsAdvancedQueries": false,
 "editFieldsInfo": null,
 "ownershipBasedAccessControlForRasters": null,
 "allowComputeTiePoints": false,
 "useStandardizedQueries": true,
 "advancedQueryCapabilities": {
  "useStandardizedQueries": true,
  "supportsStatistics": false,
  "supportsOrderBy": false,
  "supportsDistinct": false,
  "supportsPagination": false
 },
 "spatialReference": {
  "wkid": 2967,
  "latestWkid": 2967
 }
}
