{
 "currentVersion": 10.91,
 "serviceDescription": "Spring 2023 ortho imagery map service created by SJH on 10/18/2023. Imagery licensed through Pictometry, Inc. Source imagery provided by the following file geodatabase:\"gisserver\\D:\\SitesTrial\\2023SpringOrthosCounty\\2023SpringOrthosCounty.gdb\". Map service published from the following ArcGIS Pro project: \\\\gisserver\\D:\\SitesTrial\\2023SpringOrthosCounty\\2023SpringOrthosCounty.aprx\" located on the gisserver. Map service maintained by the Noble County GIS Dept., Noble County, IN.",
 "name": "2023SpringOrthosCounty",
 "description": "Spring 2023 ortho imagery map service created by SJH on 10/18/2023. Imagery licensed through Pictometry, Inc. Source imagery provided by the following file geodatabase:\"gisserver\\D:\\SitesTrial\\2023SpringOrthosCounty\\2023SpringOrthosCounty.gdb\". Map service published from the following ArcGIS Pro project: \\\\gisserver\\D:\\SitesTrial\\2023SpringOrthosCounty\\2023SpringOrthosCounty.aprx\" located on the gisserver. Map service maintained by the Noble County GIS Dept., Noble County, IN.",
 "extent": {
  "xmin": 329208.0530408062,
  "ymin": 2188823.9715408715,
  "xmax": 458568.0556280031,
  "ymax": 2289143.973547269,
  "spatialReference": {
   "wkid": 2244,
   "latestWkid": 2965
  }
 },
 "initialExtent": {
  "xmin": 329208.0530408062,
  "ymin": 2188823.9715408715,
  "xmax": 458568.0556280031,
  "ymax": 2289143.973547269,
  "spatialReference": {
   "wkid": 2244,
   "latestWkid": 2965
  }
 },
 "fullExtent": {
  "xmin": 329208.0530408062,
  "ymin": 2188823.9715408715,
  "xmax": 458568.0556280031,
  "ymax": 2289143.973547269,
  "spatialReference": {
   "wkid": 2244,
   "latestWkid": 2965
  }
 },
 "hasMultidimensions": false,
 "pixelSizeX": 0.166666669999996,
 "pixelSizeY": 0.166666669999996,
 "datasetFormat": "FGDBR",
 "uncompressedSize": 1401558681600,
 "blockWidth": 128,
 "blockHeight": 128,
 "compressionType": "JPEG",
 "bandNames": [
  "Band_1",
  "Band_2",
  "Band_3"
 ],
 "allowCopy": true,
 "allowAnalysis": true,
 "bandCount": 3,
 "pixelType": "U8",
 "minPixelSize": 0.21701388888888887,
 "maxPixelSize": 217.01388888888889,
 "copyrightText": "Produced by Eagle View, Inc., 2023. Noble County GIS Dept., Noble County, IN, 2024.",
 "serviceDataType": "esriImageServiceDataTypeProcessed",
 "serviceSourceType": "esriImageServiceSourceTypeDataset",
 "minValues": [],
 "maxValues": [],
 "meanValues": [],
 "stdvValues": [],
 "objectIdField": "",
 "fields": [],
 "capabilities": "Mensuration,Image,Metadata",
 "defaultMosaicMethod": "Center",
 "allowedMosaicMethods": "",
 "sortField": "",
 "sortValue": null,
 "sortAscending": true,
 "mosaicOperator": "First",
 "defaultCompressionQuality": 75,
 "defaultResamplingMethod": "Bilinear",
 "maxImageHeight": 4100,
 "maxImageWidth": 15000,
 "singleFusedMapCache": true,
 "tileInfo": {
  "rows": 256,
  "cols": 256,
  "dpi": 96,
  "format": "MIXED",
  "compressionQuality": 75,
  "origin": {
   "x": -18119800,
   "y": 20012700
  },
  "spatialReference": {
   "wkid": 2244,
   "latestWkid": 2965
  },
  "lods": [
   {
    "level": 0,
    "resolution": 217.01388888888889,
    "scale": 250000
   },
   {
    "level": 1,
    "resolution": 108.50694444444444,
    "scale": 125000
   },
   {
    "level": 2,
    "resolution": 55.55555555555555,
    "scale": 64000
   },
   {
    "level": 3,
    "resolution": 27.777777777777775,
    "scale": 32000
   },
   {
    "level": 4,
    "resolution": 13.888888888888888,
    "scale": 16000
   },
   {
    "level": 5,
    "resolution": 6.944444444444444,
    "scale": 8000
   },
   {
    "level": 6,
    "resolution": 3.472222222222222,
    "scale": 4000
   },
   {
    "level": 7,
    "resolution": 1.736111111111111,
    "scale": 2000
   },
   {
    "level": 8,
    "resolution": 0.8680555555555555,
    "scale": 1000
   },
   {
    "level": 9,
    "resolution": 0.43402777777777773,
    "scale": 500
   },
   {
    "level": 10,
    "resolution": 0.21701388888888887,
    "scale": 250
   }
  ]
 },
 "storageInfo": {
  "storageFormat": "esriMapCacheStorageModeCompactV2",
  "packetSize": 128
 },
 "cacheType": "Map",
 "allowRasterFunction": true,
 "rasterFunctionInfos": [
  {
   "name": "None",
   "description": "",
   "help": ""
  }
 ],
 "rasterTypeInfos": [
  {
   "name": "Raster Dataset",
   "description": "Supports all ArcGIS Raster Datasets",
   "help": ""
  }
 ],
 "mensurationCapabilities": "Basic",
 "hasHistograms": false,
 "hasColormap": false,
 "hasRasterAttributeTable": false,
 "minScale": 250000,
 "maxScale": 250,
 "minLOD": 0,
 "maxLOD": 10,
 "exportTilesAllowed": false,
 "supportsStatistics": false,
 "supportsAdvancedQueries": false,
 "editFieldsInfo": null,
 "ownershipBasedAccessControlForRasters": null,
 "allowComputeTiePoints": false,
 "useStandardizedQueries": true,
 "advancedQueryCapabilities": {
  "useStandardizedQueries": true,
  "supportsStatistics": false,
  "supportsOrderBy": false,
  "supportsDistinct": false,
  "supportsPagination": false
 },
 "spatialReference": {
  "wkid": 2244,
  "latestWkid": 2965
 }
}
