{
 "currentVersion": 10.91,
 "serviceDescription": "Spring 2003 orthophotography having resolution at 6 inch pixel. Imagery produced by the Sanborn Company and purchased by Noble County Government. Imagery service created on 5/30/2024 by SJH.\n\nThis map service was published as an image service from the Orthos2003.sde.ORTHOS2003 enterprise geodatabase stored in the ncgisserver SQL server instance on the gisserver added to the following ArcGIS Pro project:\"\\\\gisserver\\D:\\ArcGISProProjects\\2003Orthos\\2003Orthos.aprx\".",
 "name": "Orthos2003_Pro",
 "description": "Spring 2003 orthophotography having resolution at 6 inch pixel. Imagery produced by the Sanborn Company and purchased by Noble County Government. Imagery service created on 5/30/2024 by SJH.\n\nThis map service was published as an image service from the Orthos2003.sde.ORTHOS2003 enterprise geodatabase stored in the ncgisserver SQL server instance on the gisserver added to the following ArcGIS Pro project:\"\\\\gisserver\\D:\\ArcGISProProjects\\2003Orthos\\2003Orthos.aprx\".",
 "extent": {
  "xmin": 330000.0174010582,
  "ymin": 2189999.828010373,
  "xmax": 459000.0174010582,
  "ymax": 2288999.828010373,
  "spatialReference": {
   "wkid": 2244,
   "latestWkid": 2965
  }
 },
 "initialExtent": {
  "xmin": 330000.0174010582,
  "ymin": 2189999.828010373,
  "xmax": 459000.0174010582,
  "ymax": 2288999.828010373,
  "spatialReference": {
   "wkid": 2244,
   "latestWkid": 2965
  }
 },
 "fullExtent": {
  "xmin": 330000.0174010582,
  "ymin": 2189999.828010373,
  "xmax": 459000.0174010582,
  "ymax": 2288999.828010373,
  "spatialReference": {
   "wkid": 2244,
   "latestWkid": 2965
  }
 },
 "hasMultidimensions": false,
 "pixelSizeX": 0.5,
 "pixelSizeY": 0.5,
 "datasetFormat": "SDR",
 "uncompressedSize": 153252000000,
 "blockWidth": 128,
 "blockHeight": 128,
 "compressionType": "JPEG",
 "bandNames": [
  "Band_1",
  "Band_2",
  "Band_3"
 ],
 "allowCopy": true,
 "allowAnalysis": true,
 "bandCount": 3,
 "pixelType": "U8",
 "minPixelSize": 0.21701388888888887,
 "maxPixelSize": 217.01388888888889,
 "copyrightText": "Created by Sanborn, Inc., 2003. Published by Noble County GIS Dept., Noble County, IN, 2024.",
 "serviceDataType": "esriImageServiceDataTypeRGB",
 "serviceSourceType": "esriImageServiceSourceTypeDataset",
 "minValues": [
  0,
  0,
  0
 ],
 "maxValues": [
  255,
  255,
  255
 ],
 "meanValues": [
  163.0421316161463,
  161.94518286254765,
  155.59094983488768
 ],
 "stdvValues": [
  25.31904837141679,
  24.92531002284255,
  25.95389708417094
 ],
 "objectIdField": "",
 "fields": [],
 "capabilities": "Mensuration,Image,Metadata",
 "defaultMosaicMethod": "Center",
 "allowedMosaicMethods": "",
 "sortField": "",
 "sortValue": null,
 "sortAscending": true,
 "mosaicOperator": "First",
 "defaultCompressionQuality": 75,
 "defaultResamplingMethod": "Bilinear",
 "maxImageHeight": 4100,
 "maxImageWidth": 15000,
 "singleFusedMapCache": true,
 "tileInfo": {
  "rows": 256,
  "cols": 256,
  "dpi": 96,
  "format": "MIXED",
  "compressionQuality": 75,
  "origin": {
   "x": -18119800,
   "y": 20012700
  },
  "spatialReference": {
   "wkid": 2244,
   "latestWkid": 2965
  },
  "lods": [
   {
    "level": 0,
    "resolution": 217.01388888888889,
    "scale": 250000
   },
   {
    "level": 1,
    "resolution": 108.50694444444444,
    "scale": 125000
   },
   {
    "level": 2,
    "resolution": 55.55555555555555,
    "scale": 64000
   },
   {
    "level": 3,
    "resolution": 27.777777777777775,
    "scale": 32000
   },
   {
    "level": 4,
    "resolution": 13.888888888888888,
    "scale": 16000
   },
   {
    "level": 5,
    "resolution": 6.944444444444444,
    "scale": 8000
   },
   {
    "level": 6,
    "resolution": 3.472222222222222,
    "scale": 4000
   },
   {
    "level": 7,
    "resolution": 1.736111111111111,
    "scale": 2000
   },
   {
    "level": 8,
    "resolution": 0.8680555555555555,
    "scale": 1000
   },
   {
    "level": 9,
    "resolution": 0.43402777777777773,
    "scale": 500
   },
   {
    "level": 10,
    "resolution": 0.21701388888888887,
    "scale": 250
   }
  ]
 },
 "storageInfo": {
  "storageFormat": "esriMapCacheStorageModeCompactV2",
  "packetSize": 128
 },
 "cacheType": "Map",
 "allowRasterFunction": true,
 "rasterFunctionInfos": [
  {
   "name": "None",
   "description": "",
   "help": ""
  }
 ],
 "rasterTypeInfos": [
  {
   "name": "Raster Dataset",
   "description": "Supports all ArcGIS Raster Datasets",
   "help": ""
  }
 ],
 "mensurationCapabilities": "Basic",
 "hasHistograms": true,
 "hasColormap": false,
 "hasRasterAttributeTable": false,
 "minScale": 250000,
 "maxScale": 250,
 "minLOD": 0,
 "maxLOD": 10,
 "exportTilesAllowed": false,
 "supportsStatistics": false,
 "supportsAdvancedQueries": false,
 "editFieldsInfo": null,
 "ownershipBasedAccessControlForRasters": null,
 "allowComputeTiePoints": false,
 "useStandardizedQueries": true,
 "advancedQueryCapabilities": {
  "useStandardizedQueries": true,
  "supportsStatistics": false,
  "supportsOrderBy": false,
  "supportsDistinct": false,
  "supportsPagination": false
 },
 "spatialReference": {
  "wkid": 2244,
  "latestWkid": 2965
 }
}
