{
 "currentVersion": 10.91,
 "serviceDescription": "Spring 2008 orthos produced by the Pictometry Corp. (EagleView, Inc.). Imagery resolution is 6.75 pixel. Map service created by FAV on 5/30/2024. Map service published to Noble County's Portal site on the gisserver using the following ArcGIS Pro aprx: \"gisserver\\D:\\ArcGISProProjects\\Orthos2008_Pro\\Orthos2008_Pro.aprx\". Imagery data resides in the Orthos2008.sde.ORTHOS2008 raster within the Orthos2008 enterprise geodatabase on the ncgisserver SQL server located on the gisserver.",
 "name": "Orthos2008_UD1_Pro",
 "description": "Spring 2008 orthos produced by the Pictometry Corp. (EagleView, Inc.). Imagery resolution is 6.75 pixel. Map service created by FAV on 5/30/2024. Map service published to Noble County's Portal site on the gisserver using the following ArcGIS Pro aprx: \"gisserver\\D:\\ArcGISProProjects\\Orthos2008_Pro\\Orthos2008_Pro.aprx\". Imagery data resides in the Orthos2008.sde.ORTHOS2008 raster within the Orthos2008 enterprise geodatabase on the ncgisserver SQL server located on the gisserver.",
 "extent": {
  "xmin": 328221.3299010582,
  "ymin": 2188171.265510373,
  "xmax": 461337.5174010582,
  "ymax": 2289353.203010373,
  "spatialReference": {
   "wkid": 2244,
   "latestWkid": 2965
  }
 },
 "initialExtent": {
  "xmin": 328221.3299010582,
  "ymin": 2188171.265510373,
  "xmax": 461337.5174010582,
  "ymax": 2289353.203010373,
  "spatialReference": {
   "wkid": 2244,
   "latestWkid": 2965
  }
 },
 "fullExtent": {
  "xmin": 328221.3299010582,
  "ymin": 2188171.265510373,
  "xmax": 461337.5174010582,
  "ymax": 2289353.203010373,
  "spatialReference": {
   "wkid": 2244,
   "latestWkid": 2965
  }
 },
 "hasMultidimensions": false,
 "pixelSizeX": 0.5625,
 "pixelSizeY": 0.5625,
 "datasetFormat": "SDR",
 "uncompressedSize": 127705635687,
 "blockWidth": 128,
 "blockHeight": 128,
 "compressionType": "JPEG",
 "bandNames": [
  "Band_1",
  "Band_2",
  "Band_3"
 ],
 "allowCopy": true,
 "allowAnalysis": true,
 "bandCount": 3,
 "pixelType": "U8",
 "minPixelSize": 0.21701388888888887,
 "maxPixelSize": 217.01388888888889,
 "copyrightText": "Created by EagleView, Inc., 2008. Published by Noble County GIS Dept., Noble County, IN, 2024",
 "serviceDataType": "esriImageServiceDataTypeRGB",
 "serviceSourceType": "esriImageServiceSourceTypeDataset",
 "minValues": [
  0,
  0,
  0
 ],
 "maxValues": [
  255,
  255,
  255
 ],
 "meanValues": [
  136.50309457007327,
  135.07338060384174,
  119.85865773283689
 ],
 "stdvValues": [
  45.62607208193599,
  43.68696520614391,
  45.89275544596185
 ],
 "objectIdField": "",
 "fields": [],
 "capabilities": "Mensuration,Image,Metadata",
 "defaultMosaicMethod": "Center",
 "allowedMosaicMethods": "",
 "sortField": "",
 "sortValue": null,
 "sortAscending": true,
 "mosaicOperator": "First",
 "defaultCompressionQuality": 75,
 "defaultResamplingMethod": "Bilinear",
 "maxImageHeight": 4100,
 "maxImageWidth": 15000,
 "singleFusedMapCache": true,
 "tileInfo": {
  "rows": 256,
  "cols": 256,
  "dpi": 96,
  "format": "MIXED",
  "compressionQuality": 75,
  "origin": {
   "x": -18119800,
   "y": 20012700
  },
  "spatialReference": {
   "wkid": 2244,
   "latestWkid": 2965
  },
  "lods": [
   {
    "level": 0,
    "resolution": 217.01388888888889,
    "scale": 250000
   },
   {
    "level": 1,
    "resolution": 108.50694444444444,
    "scale": 125000
   },
   {
    "level": 2,
    "resolution": 55.55555555555555,
    "scale": 64000
   },
   {
    "level": 3,
    "resolution": 27.777777777777775,
    "scale": 32000
   },
   {
    "level": 4,
    "resolution": 13.888888888888888,
    "scale": 16000
   },
   {
    "level": 5,
    "resolution": 6.944444444444444,
    "scale": 8000
   },
   {
    "level": 6,
    "resolution": 3.472222222222222,
    "scale": 4000
   },
   {
    "level": 7,
    "resolution": 1.736111111111111,
    "scale": 2000
   },
   {
    "level": 8,
    "resolution": 0.8680555555555555,
    "scale": 1000
   },
   {
    "level": 9,
    "resolution": 0.43402777777777773,
    "scale": 500
   },
   {
    "level": 10,
    "resolution": 0.21701388888888887,
    "scale": 250
   }
  ]
 },
 "storageInfo": {
  "storageFormat": "esriMapCacheStorageModeCompactV2",
  "packetSize": 128
 },
 "cacheType": "Map",
 "allowRasterFunction": true,
 "rasterFunctionInfos": [
  {
   "name": "None",
   "description": "",
   "help": ""
  }
 ],
 "rasterTypeInfos": [
  {
   "name": "Raster Dataset",
   "description": "Supports all ArcGIS Raster Datasets",
   "help": ""
  }
 ],
 "mensurationCapabilities": "Basic",
 "hasHistograms": true,
 "hasColormap": false,
 "hasRasterAttributeTable": false,
 "minScale": 250000,
 "maxScale": 250,
 "exportTilesAllowed": false,
 "supportsStatistics": false,
 "supportsAdvancedQueries": false,
 "editFieldsInfo": null,
 "ownershipBasedAccessControlForRasters": null,
 "allowComputeTiePoints": false,
 "useStandardizedQueries": true,
 "advancedQueryCapabilities": {
  "useStandardizedQueries": true,
  "supportsStatistics": false,
  "supportsOrderBy": false,
  "supportsDistinct": false,
  "supportsPagination": false
 },
 "spatialReference": {
  "wkid": 2244,
  "latestWkid": 2965
 }
}
