{
 "currentVersion": 10.91,
 "serviceDescription": "2012 spring ortho imagery map service created by FAV on 05/31/2024. Imagery prepared by Woolpert and obtained by IGIC. Imagery resolution is 1 foot pixel, 4-band color imagery. Source imagery provided by the Orthos2012.sde.ORTHOS2012 raster dataset stored in the Orthos2012 database located in the ncgisserver SQL Server instance located on the gisserver. Map service published from the following ArcGIS Pro project: \"\\\\gisserver\\D:\\ArcGISProProjects\\Orthos2012_Pro\\Orthos2012_Pro.aprx\" located on gisserver.",
 "name": "Orthos2012State_Pro",
 "description": "2012 spring ortho imagery map service created by FAV on 05/31/2024. Imagery prepared by Woolpert and obtained by IGIC. Imagery resolution is 1 foot pixel, 4-band color imagery. Source imagery provided by the Orthos2012.sde.ORTHOS2012 raster dataset stored in the Orthos2012 database located in the ncgisserver SQL Server instance located on the gisserver. Map service published from the following ArcGIS Pro project: \"\\\\gisserver\\D:\\ArcGISProProjects\\Orthos2012_Pro\\Orthos2012_Pro.aprx\" located on gisserver.",
 "extent": {
  "xmin": 330000.0174010582,
  "ymin": 2189999.828010373,
  "xmax": 460000.0174010582,
  "ymax": 2289999.828010373,
  "spatialReference": {
   "wkid": 2244,
   "latestWkid": 2965
  }
 },
 "initialExtent": {
  "xmin": 330000.0174010582,
  "ymin": 2189999.828010373,
  "xmax": 460000.0174010582,
  "ymax": 2289999.828010373,
  "spatialReference": {
   "wkid": 2244,
   "latestWkid": 2965
  }
 },
 "fullExtent": {
  "xmin": 330000.0174010582,
  "ymin": 2189999.828010373,
  "xmax": 460000.0174010582,
  "ymax": 2289999.828010373,
  "spatialReference": {
   "wkid": 2244,
   "latestWkid": 2965
  }
 },
 "hasMultidimensions": false,
 "pixelSizeX": 0.5,
 "pixelSizeY": 0.5,
 "datasetFormat": "SDR",
 "uncompressedSize": 208000000000,
 "blockWidth": 128,
 "blockHeight": 128,
 "compressionType": "LZ77",
 "bandNames": [
  "Band_1",
  "Band_2",
  "Band_3",
  "Band_4"
 ],
 "allowCopy": true,
 "allowAnalysis": true,
 "bandCount": 4,
 "pixelType": "U8",
 "minPixelSize": 0.21701388888888887,
 "maxPixelSize": 217.01388888888889,
 "copyrightText": "Created by IGIC, 2012. Published by Noble County GIS Dept., Noble County, IN, 2024.",
 "serviceDataType": "esriImageServiceDataTypeGeneric",
 "serviceSourceType": "esriImageServiceSourceTypeDataset",
 "minValues": [
  0,
  0,
  0,
  0
 ],
 "maxValues": [
  255,
  255,
  255,
  255
 ],
 "meanValues": [
  142.7487905282939,
  137.7952008465526,
  127.39409561491696,
  130.07060458410166
 ],
 "stdvValues": [
  30.778880635674316,
  30.204665643764393,
  31.564034397902727,
  31.95729867818347
 ],
 "objectIdField": "",
 "fields": [],
 "capabilities": "Mensuration,Image,Metadata",
 "defaultMosaicMethod": "Center",
 "allowedMosaicMethods": "",
 "sortField": "",
 "sortValue": null,
 "sortAscending": true,
 "mosaicOperator": "First",
 "defaultCompressionQuality": 75,
 "defaultResamplingMethod": "Bilinear",
 "maxImageHeight": 4100,
 "maxImageWidth": 15000,
 "singleFusedMapCache": true,
 "tileInfo": {
  "rows": 256,
  "cols": 256,
  "dpi": 96,
  "format": "MIXED",
  "compressionQuality": 75,
  "origin": {
   "x": -18119800,
   "y": 20012700
  },
  "spatialReference": {
   "wkid": 2244,
   "latestWkid": 2965
  },
  "lods": [
   {
    "level": 0,
    "resolution": 217.01388888888889,
    "scale": 250000
   },
   {
    "level": 1,
    "resolution": 108.50694444444444,
    "scale": 125000
   },
   {
    "level": 2,
    "resolution": 55.55555555555555,
    "scale": 64000
   },
   {
    "level": 3,
    "resolution": 27.777777777777775,
    "scale": 32000
   },
   {
    "level": 4,
    "resolution": 13.888888888888888,
    "scale": 16000
   },
   {
    "level": 5,
    "resolution": 6.944444444444444,
    "scale": 8000
   },
   {
    "level": 6,
    "resolution": 3.472222222222222,
    "scale": 4000
   },
   {
    "level": 7,
    "resolution": 1.736111111111111,
    "scale": 2000
   },
   {
    "level": 8,
    "resolution": 0.8680555555555555,
    "scale": 1000
   },
   {
    "level": 9,
    "resolution": 0.43402777777777773,
    "scale": 500
   },
   {
    "level": 10,
    "resolution": 0.21701388888888887,
    "scale": 250
   }
  ]
 },
 "storageInfo": {
  "storageFormat": "esriMapCacheStorageModeCompactV2",
  "packetSize": 128
 },
 "cacheType": "Map",
 "allowRasterFunction": true,
 "rasterFunctionInfos": [
  {
   "name": "None",
   "description": "",
   "help": ""
  }
 ],
 "rasterTypeInfos": [
  {
   "name": "Raster Dataset",
   "description": "Supports all ArcGIS Raster Datasets",
   "help": ""
  }
 ],
 "mensurationCapabilities": "Basic",
 "hasHistograms": true,
 "hasColormap": false,
 "hasRasterAttributeTable": false,
 "minScale": 250000,
 "maxScale": 250,
 "exportTilesAllowed": false,
 "supportsStatistics": false,
 "supportsAdvancedQueries": false,
 "editFieldsInfo": null,
 "ownershipBasedAccessControlForRasters": null,
 "allowComputeTiePoints": false,
 "useStandardizedQueries": true,
 "advancedQueryCapabilities": {
  "useStandardizedQueries": true,
  "supportsStatistics": false,
  "supportsOrderBy": false,
  "supportsDistinct": false,
  "supportsPagination": false
 },
 "spatialReference": {
  "wkid": 2244,
  "latestWkid": 2965
 }
}
