{
 "currentVersion": 10.91,
 "serviceDescription": "2014 spring ortho imagery map service created by FAV on 05/31/2024. Imagery prepared by Pictometry (EagleView, Inc.) and obtained by the Noble County GIS Dept. Imagery resolution is 4 inch pixel, 3-band color imagery. Source imagery provided by the Orthos2014.sde.ORTHOS2014 raster dataset stored in the Orthos2014 database located in the ncgisserver SQL Server instance located on the gisserver. Map service published from the following ArcGIS Pro project: \"\\\\gisserver\\D:\\ArcGISProProjects\\Orthos2014_Pro\\Orthos2014_Pro.aprx\" located on gisserver.",
 "name": "Orthos2014_Pro",
 "description": "2014 spring ortho imagery map service created by FAV on 05/31/2024. Imagery prepared by Pictometry (EagleView, Inc.) and obtained by the Noble County GIS Dept. Imagery resolution is 4 inch pixel, 3-band color imagery. Source imagery provided by the Orthos2014.sde.ORTHOS2014 raster dataset stored in the Orthos2014 database located in the ncgisserver SQL Server instance located on the gisserver. Map service published from the following ArcGIS Pro project: \"\\\\gisserver\\D:\\ArcGISProProjects\\Orthos2014_Pro\\Orthos2014_Pro.aprx\" located on gisserver.",
 "extent": {
  "xmin": 326183.24253942445,
  "ymin": 2190459.4269101396,
  "xmax": 458893.24056189135,
  "ymax": 2291104.4254104123,
  "spatialReference": {
   "wkid": 2244,
   "latestWkid": 2965
  }
 },
 "initialExtent": {
  "xmin": 326183.24253942445,
  "ymin": 2190459.4269101396,
  "xmax": 458893.24056189135,
  "ymax": 2291104.4254104123,
  "spatialReference": {
   "wkid": 2244,
   "latestWkid": 2965
  }
 },
 "fullExtent": {
  "xmin": 326183.24253942445,
  "ymin": 2190459.4269101396,
  "xmax": 458893.24056189135,
  "ymax": 2291104.4254104123,
  "spatialReference": {
   "wkid": 2244,
   "latestWkid": 2965
  }
 },
 "hasMultidimensions": false,
 "pixelSizeX": 0.3333333283662796,
 "pixelSizeY": 0.3333333283662796,
 "datasetFormat": "SDR",
 "uncompressedSize": 360628144650,
 "blockWidth": 128,
 "blockHeight": 128,
 "compressionType": "LZ77",
 "bandNames": [
  "Band_1",
  "Band_2",
  "Band_3"
 ],
 "allowCopy": true,
 "allowAnalysis": true,
 "bandCount": 3,
 "pixelType": "U8",
 "minPixelSize": 0.21701388888888887,
 "maxPixelSize": 217.01388888888889,
 "copyrightText": "Created by EagleView, Inc., 2014. Published by Noble County GIS Dept., 2024.",
 "serviceDataType": "esriImageServiceDataTypeRGB",
 "serviceSourceType": "esriImageServiceSourceTypeDataset",
 "minValues": [
  0,
  0,
  0
 ],
 "maxValues": [
  255,
  255,
  255
 ],
 "meanValues": [
  147.83033731455905,
  138.3282871981495,
  121.91795754374361
 ],
 "stdvValues": [
  46.83795925206828,
  45.45090247288059,
  48.45676662100243
 ],
 "objectIdField": "",
 "fields": [],
 "capabilities": "Mensuration,Image,Metadata",
 "defaultMosaicMethod": "Center",
 "allowedMosaicMethods": "",
 "sortField": "",
 "sortValue": null,
 "sortAscending": true,
 "mosaicOperator": "First",
 "defaultCompressionQuality": 75,
 "defaultResamplingMethod": "Bilinear",
 "maxImageHeight": 4100,
 "maxImageWidth": 15000,
 "singleFusedMapCache": true,
 "tileInfo": {
  "rows": 256,
  "cols": 256,
  "dpi": 96,
  "format": "MIXED",
  "compressionQuality": 75,
  "origin": {
   "x": -18119800,
   "y": 20012700
  },
  "spatialReference": {
   "wkid": 2244,
   "latestWkid": 2965
  },
  "lods": [
   {
    "level": 0,
    "resolution": 217.01388888888889,
    "scale": 250000
   },
   {
    "level": 1,
    "resolution": 108.50694444444444,
    "scale": 125000
   },
   {
    "level": 2,
    "resolution": 55.55555555555555,
    "scale": 64000
   },
   {
    "level": 3,
    "resolution": 27.777777777777775,
    "scale": 32000
   },
   {
    "level": 4,
    "resolution": 13.888888888888888,
    "scale": 16000
   },
   {
    "level": 5,
    "resolution": 6.944444444444444,
    "scale": 8000
   },
   {
    "level": 6,
    "resolution": 3.472222222222222,
    "scale": 4000
   },
   {
    "level": 7,
    "resolution": 1.736111111111111,
    "scale": 2000
   },
   {
    "level": 8,
    "resolution": 0.8680555555555555,
    "scale": 1000
   },
   {
    "level": 9,
    "resolution": 0.43402777777777773,
    "scale": 500
   },
   {
    "level": 10,
    "resolution": 0.21701388888888887,
    "scale": 250
   }
  ]
 },
 "storageInfo": {
  "storageFormat": "esriMapCacheStorageModeCompactV2",
  "packetSize": 128
 },
 "cacheType": "Map",
 "allowRasterFunction": true,
 "rasterFunctionInfos": [
  {
   "name": "None",
   "description": "",
   "help": ""
  }
 ],
 "rasterTypeInfos": [
  {
   "name": "Raster Dataset",
   "description": "Supports all ArcGIS Raster Datasets",
   "help": ""
  }
 ],
 "mensurationCapabilities": "Basic",
 "hasHistograms": true,
 "hasColormap": false,
 "hasRasterAttributeTable": false,
 "minScale": 250000,
 "maxScale": 250,
 "exportTilesAllowed": false,
 "supportsStatistics": false,
 "supportsAdvancedQueries": false,
 "editFieldsInfo": null,
 "ownershipBasedAccessControlForRasters": null,
 "allowComputeTiePoints": false,
 "useStandardizedQueries": true,
 "advancedQueryCapabilities": {
  "useStandardizedQueries": true,
  "supportsStatistics": false,
  "supportsOrderBy": false,
  "supportsDistinct": false,
  "supportsPagination": false
 },
 "spatialReference": {
  "wkid": 2244,
  "latestWkid": 2965
 }
}
