{
 "currentVersion": 10.91,
 "serviceDescription": "A base map showing surrounding counties for use with Spillman mapping.This map will be published as a cached map service using ArcGIS Server on ncgisserver. Map document resides at \\\\gisserver\\d\\ArcGISDataResources\\SitesTrial\\SpillmanAdjCountiesBaseMap.mxd and the map data resides at \\\\gisserver\\d\\ArcGISDataResources\\SitesTrial\\SpillmanAdjCoBaseMap.gdb. Map created by SJH on 5/15/2020. Updated by SJH on 10/06/2021.",
 "mapName": "Layers",
 "description": "",
 "copyrightText": "Noble County GIS Dept., 2021",
 "supportsDynamicLayers": true,
 "layers": [
  {
   "id": 0,
   "name": "AdjMileMarkers_GCS1984",
   "parentLayerId": -1,
   "defaultVisibility": true,
   "subLayerIds": null,
   "minScale": 75000,
   "maxScale": 0,
   "type": "Feature Layer",
   "geometryType": "esriGeometryPoint"
  },
  {
   "id": 1,
   "name": "AdjInterstateHwys_GCS1984",
   "parentLayerId": -1,
   "defaultVisibility": true,
   "subLayerIds": null,
   "minScale": 0,
   "maxScale": 0,
   "type": "Feature Layer",
   "geometryType": "esriGeometryPolyline"
  },
  {
   "id": 2,
   "name": "AdjUSHwys_GCS1984",
   "parentLayerId": -1,
   "defaultVisibility": true,
   "subLayerIds": null,
   "minScale": 0,
   "maxScale": 0,
   "type": "Feature Layer",
   "geometryType": "esriGeometryPolyline"
  },
  {
   "id": 3,
   "name": "AdjStateHwys_GCS1984",
   "parentLayerId": -1,
   "defaultVisibility": true,
   "subLayerIds": null,
   "minScale": 0,
   "maxScale": 0,
   "type": "Feature Layer",
   "geometryType": "esriGeometryPolyline"
  },
  {
   "id": 4,
   "name": "AdjRuralCountyRds_GCS1984",
   "parentLayerId": -1,
   "defaultVisibility": true,
   "subLayerIds": null,
   "minScale": 250000,
   "maxScale": 0,
   "type": "Feature Layer",
   "geometryType": "esriGeometryPolyline"
  },
  {
   "id": 5,
   "name": "AdjRailroads_GCS1984",
   "parentLayerId": -1,
   "defaultVisibility": true,
   "subLayerIds": null,
   "minScale": 0,
   "maxScale": 0,
   "type": "Feature Layer",
   "geometryType": "esriGeometryPolyline"
  },
  {
   "id": 6,
   "name": "AdjWaterBodies_GCS1984",
   "parentLayerId": -1,
   "defaultVisibility": true,
   "subLayerIds": null,
   "minScale": 250000,
   "maxScale": 0,
   "type": "Feature Layer",
   "geometryType": "esriGeometryPolygon"
  },
  {
   "id": 7,
   "name": "AdjRiversStreams_GCS1984",
   "parentLayerId": -1,
   "defaultVisibility": true,
   "subLayerIds": null,
   "minScale": 250000,
   "maxScale": 0,
   "type": "Feature Layer",
   "geometryType": "esriGeometryPolyline"
  },
  {
   "id": 8,
   "name": "AdjCounties_GCS1984",
   "parentLayerId": -1,
   "defaultVisibility": true,
   "subLayerIds": null,
   "minScale": 0,
   "maxScale": 0,
   "type": "Feature Layer",
   "geometryType": "esriGeometryPolygon"
  },
  {
   "id": 9,
   "name": "AdjCitiesTowns_GCS1984",
   "parentLayerId": -1,
   "defaultVisibility": true,
   "subLayerIds": null,
   "minScale": 0,
   "maxScale": 0,
   "type": "Feature Layer",
   "geometryType": "esriGeometryPolygon"
  },
  {
   "id": 10,
   "name": "AdjStateReserves_GCS1984",
   "parentLayerId": -1,
   "defaultVisibility": true,
   "subLayerIds": null,
   "minScale": 250000,
   "maxScale": 0,
   "type": "Feature Layer",
   "geometryType": "esriGeometryPolygon"
  },
  {
   "id": 11,
   "name": "AdjCountyTwps_GCS1984",
   "parentLayerId": -1,
   "defaultVisibility": true,
   "subLayerIds": null,
   "minScale": 130000,
   "maxScale": 0,
   "type": "Feature Layer",
   "geometryType": "esriGeometryPolygon"
  }
 ],
 "tables": [],
 "spatialReference": {
  "wkid": 4326,
  "latestWkid": 4326
 },
 "singleFusedMapCache": true,
 "tileInfo": {
  "rows": 256,
  "cols": 256,
  "dpi": 96,
  "format": "MIXED",
  "compressionQuality": 75,
  "origin": {
   "x": -400,
   "y": 399.9999999999998
  },
  "spatialReference": {
   "wkid": 4326,
   "latestWkid": 4326
  },
  "lods": [
   {
    "level": 0,
    "resolution": 9.045758959764393E-4,
    "scale": 380160
   },
   {
    "level": 1,
    "resolution": 7.538132466470328E-4,
    "scale": 316800
   },
   {
    "level": 2,
    "resolution": 5.9486525145757E-4,
    "scale": 250000
   },
   {
    "level": 3,
    "resolution": 2.97432625728785E-4,
    "scale": 125000
   },
   {
    "level": 4,
    "resolution": 1.5228550437313792E-4,
    "scale": 64000
   },
   {
    "level": 5,
    "resolution": 7.614275218656896E-5,
    "scale": 32000
   },
   {
    "level": 6,
    "resolution": 3.807137609328448E-5,
    "scale": 16000
   },
   {
    "level": 7,
    "resolution": 1.903568804664224E-5,
    "scale": 8000
   },
   {
    "level": 8,
    "resolution": 9.51784402332112E-6,
    "scale": 4000
   },
   {
    "level": 9,
    "resolution": 4.75892201166056E-6,
    "scale": 2000
   },
   {
    "level": 10,
    "resolution": 2.37946100583028E-6,
    "scale": 1000
   },
   {
    "level": 11,
    "resolution": 1.18973050291514E-6,
    "scale": 500
   }
  ]
 },
 "initialExtent": {
  "xmin": -85.95004012107337,
  "ymin": 41.19351306772106,
  "xmax": -84.93043287792658,
  "ymax": 41.7123530902677,
  "spatialReference": {
   "wkid": 4326,
   "latestWkid": 4326
  }
 },
 "fullExtent": {
  "xmin": -86.07755099999997,
  "ymin": 40.916431000000046,
  "xmax": -84.80292199899998,
  "ymax": 41.76051300000006,
  "spatialReference": {
   "wkid": 4326,
   "latestWkid": 4326
  }
 },
 "minScale": 380160,
 "maxScale": 500,
 "minLOD": 0,
 "maxLOD": 11,
 "units": "esriDecimalDegrees",
 "supportedImageFormatTypes": "PNG32,PNG24,PNG,JPG,DIB,TIFF,EMF,PS,PDF,GIF,SVG,SVGZ,BMP",
 "documentInfo": {
  "Title": "SpillmanAdjCountiesBaseMap_GCS1984",
  "Author": "Steven J. Hook",
  "Comments": "A base map showing surrounding counties for use with Spillman mapping.This map will be published as a cached map service using ArcGIS Server on ncgisserver. Map document resides at \\\\ncgisserver\\d$\\ArcGISDataResources\\SitesTrial\\SpillmanAdjCountiesBaseMap.mxd and the map data resides at \\\\ncgisserver\\d$\\ArcGISDataResources\\SitesTrial\\SpillmanAdjCoBaseMap.gdb. Map created by SJH on 5/15/2020.",
  "Subject": "A base map showing surrounding counties for use with Spillman mapping.",
  "Category": "",
  "AntialiasingMode": "None",
  "TextAntialiasingMode": "Force",
  "Keywords": "Indiana,Northeast Indiana,Base Map"
 },
 "capabilities": "Map,Query,Data",
 "supportedQueryFormats": "JSON, geoJSON",
 "exportTilesAllowed": false,
 "referenceScale": 0,
 "supportsDatumTransformation": true,
 "maxRecordCount": 100000,
 "maxImageHeight": 4096,
 "maxImageWidth": 4096,
 "supportedExtensions": "KmlServer, WMSServer",
 "serviceItemId": "803ed88435b041a8af11a494e4d26df2"
}
