View In:
ArcGIS JavaScript
ArcGIS Online Map Viewer
ArcGIS Earth
ArcMap
View Footprint In:
ArcGIS Online Map Viewer
Service Description: 2017 spring ortho imagery map service created by FAV on 6/11/2024. Imagery licensed through Pictometry, Inc. Source imagery provided by the following file geodatabase:"gisserver\D:\ArcGISProProjects\Orthos2017_Pro\Orthos2017.gdb". Map service published from the following ArcGIS Pro project: \\gisserver\D\ArcGISDataResources\Orthos2017_Pro Map service published from: "\\gisserver\D\ArcGISDataResources\Orthos2017_Pro\Orthos2017_Pro.aprx" located on the gisserver. Map service maintained by the Noble County GIS Dept., Noble County, IN.
Name: 2017Orthos_Pro
Description: 2017 spring ortho imagery map service created by FAV on 6/11/2024. Imagery licensed through Pictometry, Inc. Source imagery provided by the following file geodatabase:"gisserver\D:\ArcGISProProjects\Orthos2017_Pro\Orthos2017.gdb". Map service published from the following ArcGIS Pro project: \\gisserver\D\ArcGISDataResources\Orthos2017_Pro Map service published from: "\\gisserver\D\ArcGISDataResources\Orthos2017_Pro\Orthos2017_Pro.aprx" located on the gisserver. Map service maintained by the Noble County GIS Dept., Noble County, IN.
Single Fused Map Cache: true
Tile Info:
- Height: 256
- Width: 256
- DPI: 96
-
Levels of Detail: 11
- Format: MIXED
- Compression Quality: 75.0
- LERC Error: NaN
- Origin: X: -1.81198E7
Y: 2.00127E7
- Spatial Reference: 2244
(2965)
Storage Info:
- Storage Format: esriMapCacheStorageModeCompactV2
- Packet Size: 128
Extent:
XMin: 326183.5174010582
YMin: 2190459.328010373
XMax: 458893.5174010582
YMax: 2291104.578010373
Spatial Reference: 2244
(2965)
Initial Extent:
XMin: 326183.5174010582
YMin: 2190459.328010373
XMax: 458893.5174010582
YMax: 2291104.578010373
Spatial Reference: 2244
(2965)
Full Extent:
XMin: 326183.5174010582
YMin: 2190459.328010373
XMax: 458893.5174010582
YMax: 2291104.578010373
Spatial Reference: 2244
(2965)
Pixel Size X: 0.25
Pixel Size Y: 0.25
Band Count: 3
Pixel Type: U8
RasterFunction Infos: {"rasterFunctionInfos": [{
"name": "None",
"description": "",
"help": ""
}]}
Mensuration Capabilities: Basic
Has Histograms: false
Has Colormap: false
Has Multi Dimensions : false
Rendering Rule:
Min Scale: 250000
Max Scale: 250
Copyright Text: Created by EagleView, Inc., 2017. Published by Noble County GIS Dept., Noble County, IN, 2024.
Service Data Type: esriImageServiceDataTypeProcessed
Min Values: N/A
Max Values: N/A
Mean Values: N/A
Standard Deviation Values: N/A
Object ID Field:
Fields:
None
Default Mosaic Method: Center
Allowed Mosaic Methods:
SortField:
SortValue: null
Mosaic Operator: First
Default Compression Quality: 75
Default Resampling Method: Bilinear
Max Record Count: null
Max Image Height: 4100
Max Image Width: 15000
Max Download Image Count: null
Max Mosaic Image Count: null
Allow Raster Function: true
Allow Copy: true
Allow Analysis: true
Allow Compute TiePoints: false
Supports Statistics: false
Supports Advanced Queries: false
Use StandardizedQueries: true
Raster Type Infos:
Name: Raster Dataset
Description: Supports all ArcGIS Raster Datasets
Help:
Has Raster Attribute Table: false
Edit Fields Info: null
Ownership Based AccessControl For Rasters: null
Child Resources:
Info
Statistics
Key Properties
Legend
Raster Function Infos
Supported Operations:
Export Image
Identify
Measure
Compute Histograms
Compute Statistics Histograms
Get Samples
Compute Class Statistics
Query Boundary
Compute Pixel Location
Compute Angles
Validate
Project