View In:
ArcGIS JavaScript
ArcGIS Online Map Viewer
ArcGIS Earth
ArcMap
View Footprint In:
ArcGIS Online Map Viewer
Service Description: Spring 2005 State Orthos prepared by Woolpert and obtained by the IGIC. Imagery resolution is 1 foot pixel. Map service published by SJH on 10/13/2023. Map service published to ArcGIS Portal/ArcGIS Server on gisserver from "\\gisserver\D:\ArcGISProProjects\Orthos2005State_Pro\Orthos2005State_Pro.aprx". Ortho imagery file used is the Orthos2005 raster dataset stored in the Orthos2005 SQL database in the ncgisserver SQL Server instance on the gisserver.
Name: Orthos2005State_Pro
Description: Spring 2005 State Orthos prepared by Woolpert and obtained by the IGIC. Imagery resolution is 1 foot pixel. Map service published by SJH on 10/13/2023. Map service published to ArcGIS Portal/ArcGIS Server on gisserver from "\\gisserver\D:\ArcGISProProjects\Orthos2005State_Pro\Orthos2005State_Pro.aprx". Ortho imagery file used is the Orthos2005 raster dataset stored in the Orthos2005 SQL database in the ncgisserver SQL Server instance on the gisserver.
Single Fused Map Cache: true
Tile Info:
- Height: 256
- Width: 256
- DPI: 96
-
Levels of Detail: 11
- Format: MIXED
- Compression Quality: 75.0
- LERC Error: NaN
- Origin: X: -1.81198E7
Y: 2.00127E7
- Spatial Reference: 2244
(2965)
Storage Info:
- Storage Format: esriMapCacheStorageModeCompactV2
- Packet Size: 128
Extent:
XMin: 323999.5174010582
YMin: 2183999.828010373
XMax: 463999.5174010582
YMax: 2291999.828010373
Spatial Reference: 2244
(2965)
Initial Extent:
XMin: 323999.5174010582
YMin: 2183999.828010373
XMax: 463999.5174010582
YMax: 2291999.828010373
Spatial Reference: 2244
(2965)
Full Extent:
XMin: 323999.5174010582
YMin: 2183999.828010373
XMax: 463999.5174010582
YMax: 2291999.828010373
Spatial Reference: 2244
(2965)
Pixel Size X: 1.0
Pixel Size Y: 1.0
Band Count: 3
Pixel Type: U8
RasterFunction Infos: {"rasterFunctionInfos": [{
"name": "None",
"description": "",
"help": ""
}]}
Mensuration Capabilities: Basic
Has Histograms: false
Has Colormap: false
Has Multi Dimensions : false
Rendering Rule:
Min Scale: 250000
Max Scale: 250
Copyright Text: Created by IGIC, 2005. Published by Noble County GIS Dept., Noble County, IN, 2024.
Service Data Type: esriImageServiceDataTypeRGB
Min Values: N/A
Max Values: N/A
Mean Values: N/A
Standard Deviation Values: N/A
Object ID Field:
Fields:
None
Default Mosaic Method: Center
Allowed Mosaic Methods:
SortField:
SortValue: null
Mosaic Operator: First
Default Compression Quality: 75
Default Resampling Method: Bilinear
Max Record Count: null
Max Image Height: 4100
Max Image Width: 15000
Max Download Image Count: null
Max Mosaic Image Count: null
Allow Raster Function: true
Allow Copy: true
Allow Analysis: true
Allow Compute TiePoints: false
Supports Statistics: false
Supports Advanced Queries: false
Use StandardizedQueries: true
Raster Type Infos:
Name: Raster Dataset
Description: Supports all ArcGIS Raster Datasets
Help:
Has Raster Attribute Table: false
Edit Fields Info: null
Ownership Based AccessControl For Rasters: null
Child Resources:
Info
Statistics
Key Properties
Legend
Raster Function Infos
Supported Operations:
Export Image
Identify
Measure
Compute Histograms
Compute Statistics Histograms
Get Samples
Compute Class Statistics
Query Boundary
Compute Pixel Location
Compute Angles
Validate
Project