View In:
ArcGIS JavaScript
ArcGIS Online Map Viewer
ArcGIS Earth
ArcMap
View Footprint In:
ArcGIS Online Map Viewer
Service Description: Spring 2022 imagery produced by Sanborn, Inc. on be half of the State Geographic Information Office. Resolution is 6 inch pixel, 4-band color. Maintained by the Noble County GIS Department. Image service is published using the following ArcGIS Pro project map:
\\gisserver\D:\ArcGISDataResources\SitesTrial\2022SpringOrthos_State/2022SpringOrthos_State.aprx. Imagery stored at \\gisserver\D:\ArcGISDataResources\SitesTrial\2022SpringOrthos_State\Default.gdb. Map service resides in ArcGIS Enterprise ArcGIS Server on the gisserver. Image service published through the Catalog View from the raster dataset stored within the Default.gdb. Image service created by SJH on 10/04/2023.
Name: 2022SpringOrthosState
Description: Spring 2022 imagery produced by Sanborn, Inc. on be half of the State Geographic Information Office. Resolution is 6 inch pixel, 4-band color. Maintained by the Noble County GIS Department. Image service is published using the following ArcGIS Pro project map:
\\gisserver\D:\ArcGISDataResources\SitesTrial\2022SpringOrthos_State/2022SpringOrthos_State.aprx. Imagery stored at \\gisserver\D:\ArcGISDataResources\SitesTrial\2022SpringOrthos_State\Default.gdb. Map service resides in ArcGIS Enterprise ArcGIS Server on the gisserver. Image service published through the Catalog View from the raster dataset stored within the Default.gdb. Image service created by SJH on 10/04/2023.
Single Fused Map Cache: true
Tile Info:
- Height: 256
- Width: 256
- DPI: 96
-
Levels of Detail: 11
- Format: MIXED
- Compression Quality: 75.0
- LERC Error: NaN
- Origin: X: -1.81198E7
Y: 2.00127E7
- Spatial Reference: 2967
(2967)
Storage Info:
- Storage Format: esriMapCacheStorageModeCompactV2
- Packet Size: 128
Extent:
XMin: 327500.0174010582
YMin: 2187499.828010373
XMax: 462500.0174010582
YMax: 2289999.828010373
Spatial Reference: 2967
(2967)
Initial Extent:
XMin: 327500.0174010582
YMin: 2187499.828010373
XMax: 462500.0174010582
YMax: 2289999.828010373
Spatial Reference: 2967
(2967)
Full Extent:
XMin: 327500.0174010582
YMin: 2187499.828010373
XMax: 462500.0174010582
YMax: 2289999.828010373
Spatial Reference: 2967
(2967)
Pixel Size X: 0.5
Pixel Size Y: 0.5
Band Count: 4
Pixel Type: U8
RasterFunction Infos: {"rasterFunctionInfos": [{
"name": "None",
"description": "",
"help": ""
}]}
Mensuration Capabilities: Basic
Has Histograms: false
Has Colormap: false
Has Multi Dimensions : false
Rendering Rule:
Min Scale: 0
Max Scale: 0
Min LOD: 0
Max LOD: 10
Copyright Text: Procured by the Indiana Geographic Information Office (IGIO) and produced by Sanborn, Inc., 2022. Published by Noble County GIS Dept., Noble County, IN, 2024.
Service Data Type: esriImageServiceDataTypeGeneric
Min Values: N/A
Max Values: N/A
Mean Values: N/A
Standard Deviation Values: N/A
Object ID Field:
Fields:
None
Default Mosaic Method: Center
Allowed Mosaic Methods:
SortField:
SortValue: null
Mosaic Operator: First
Default Compression Quality: 75
Default Resampling Method: Bilinear
Max Record Count: null
Max Image Height: 4100
Max Image Width: 15000
Max Download Image Count: null
Max Mosaic Image Count: null
Allow Raster Function: true
Allow Copy: true
Allow Analysis: true
Allow Compute TiePoints: false
Supports Statistics: false
Supports Advanced Queries: false
Use StandardizedQueries: true
Raster Type Infos:
Name: Raster Dataset
Description: Supports all ArcGIS Raster Datasets
Help:
Has Raster Attribute Table: false
Edit Fields Info: null
Ownership Based AccessControl For Rasters: null
Child Resources:
Info
Statistics
Key Properties
Legend
Raster Function Infos
Supported Operations:
Export Image
Identify
Measure
Compute Histograms
Compute Statistics Histograms
Get Samples
Compute Class Statistics
Query Boundary
Compute Pixel Location
Compute Angles
Validate
Project