View In:
ArcGIS JavaScript
ArcGIS Online Map Viewer
ArcGIS Earth
ArcMap
View Footprint In:
ArcGIS Online Map Viewer
Service Description: Spring 2023 ortho imagery map service created by SJH on 10/18/2023. Imagery licensed through Pictometry, Inc. Source imagery provided by the following file geodatabase:"gisserver\D:\SitesTrial\2023SpringOrthosCounty\2023SpringOrthosCounty.gdb". Map service published from the following ArcGIS Pro project: \\gisserver\D:\SitesTrial\2023SpringOrthosCounty\2023SpringOrthosCounty.aprx" located on the gisserver. Map service maintained by the Noble County GIS Dept., Noble County, IN.
Name: 2023SpringOrthosCounty
Description: Spring 2023 ortho imagery map service created by SJH on 10/18/2023. Imagery licensed through Pictometry, Inc. Source imagery provided by the following file geodatabase:"gisserver\D:\SitesTrial\2023SpringOrthosCounty\2023SpringOrthosCounty.gdb". Map service published from the following ArcGIS Pro project: \\gisserver\D:\SitesTrial\2023SpringOrthosCounty\2023SpringOrthosCounty.aprx" located on the gisserver. Map service maintained by the Noble County GIS Dept., Noble County, IN.
Single Fused Map Cache: true
Tile Info:
- Height: 256
- Width: 256
- DPI: 96
-
Levels of Detail: 11
- Format: MIXED
- Compression Quality: 75.0
- LERC Error: NaN
- Origin: X: -1.81198E7
Y: 2.00127E7
- Spatial Reference: 2244
(2965)
Storage Info:
- Storage Format: esriMapCacheStorageModeCompactV2
- Packet Size: 128
Extent:
XMin: 329208.0530408062
YMin: 2188823.9715408715
XMax: 458568.0556280031
YMax: 2289143.973547269
Spatial Reference: 2244
(2965)
Initial Extent:
XMin: 329208.0530408062
YMin: 2188823.9715408715
XMax: 458568.0556280031
YMax: 2289143.973547269
Spatial Reference: 2244
(2965)
Full Extent:
XMin: 329208.0530408062
YMin: 2188823.9715408715
XMax: 458568.0556280031
YMax: 2289143.973547269
Spatial Reference: 2244
(2965)
Pixel Size X: 0.166666669999996
Pixel Size Y: 0.166666669999996
Band Count: 3
Pixel Type: U8
RasterFunction Infos: {"rasterFunctionInfos": [{
"name": "None",
"description": "",
"help": ""
}]}
Mensuration Capabilities: Basic
Has Histograms: false
Has Colormap: false
Has Multi Dimensions : false
Rendering Rule:
Min Scale: 250000
Max Scale: 250
Min LOD: 0
Max LOD: 10
Copyright Text: Produced by Eagle View, Inc., 2023. Noble County GIS Dept., Noble County, IN, 2024.
Service Data Type: esriImageServiceDataTypeProcessed
Min Values: N/A
Max Values: N/A
Mean Values: N/A
Standard Deviation Values: N/A
Object ID Field:
Fields:
None
Default Mosaic Method: Center
Allowed Mosaic Methods:
SortField:
SortValue: null
Mosaic Operator: First
Default Compression Quality: 75
Default Resampling Method: Bilinear
Max Record Count: null
Max Image Height: 4100
Max Image Width: 15000
Max Download Image Count: null
Max Mosaic Image Count: null
Allow Raster Function: true
Allow Copy: true
Allow Analysis: true
Allow Compute TiePoints: false
Supports Statistics: false
Supports Advanced Queries: false
Use StandardizedQueries: true
Raster Type Infos:
Name: Raster Dataset
Description: Supports all ArcGIS Raster Datasets
Help:
Has Raster Attribute Table: false
Edit Fields Info: null
Ownership Based AccessControl For Rasters: null
Child Resources:
Info
Statistics
Key Properties
Legend
Raster Function Infos
Supported Operations:
Export Image
Identify
Measure
Compute Histograms
Compute Statistics Histograms
Get Samples
Compute Class Statistics
Query Boundary
Compute Pixel Location
Compute Angles
Validate
Project