View In:
ArcGIS JavaScript
ArcGIS Online Map Viewer
ArcGIS Earth
ArcMap
View Footprint In:
ArcGIS Online Map Viewer
Service Description: Spring 2003 orthophotography having resolution at 6 inch pixel. Imagery produced by the Sanborn Company and purchased by Noble County Government. Imagery service created on 5/30/2024 by SJH.
This map service was published as an image service from the Orthos2003.sde.ORTHOS2003 enterprise geodatabase stored in the ncgisserver SQL server instance on the gisserver added to the following ArcGIS Pro project:"\\gisserver\D:\ArcGISProProjects\2003Orthos\2003Orthos.aprx".
Name: Orthos2003_Pro
Description: Spring 2003 orthophotography having resolution at 6 inch pixel. Imagery produced by the Sanborn Company and purchased by Noble County Government. Imagery service created on 5/30/2024 by SJH.
This map service was published as an image service from the Orthos2003.sde.ORTHOS2003 enterprise geodatabase stored in the ncgisserver SQL server instance on the gisserver added to the following ArcGIS Pro project:"\\gisserver\D:\ArcGISProProjects\2003Orthos\2003Orthos.aprx".
Single Fused Map Cache: true
Tile Info:
- Height: 256
- Width: 256
- DPI: 96
-
Levels of Detail: 11
- Format: MIXED
- Compression Quality: 75.0
- LERC Error: NaN
- Origin: X: -1.81198E7
Y: 2.00127E7
- Spatial Reference: 2244
(2965)
Storage Info:
- Storage Format: esriMapCacheStorageModeCompactV2
- Packet Size: 128
Extent:
XMin: 330000.0174010582
YMin: 2189999.828010373
XMax: 459000.0174010582
YMax: 2288999.828010373
Spatial Reference: 2244
(2965)
Initial Extent:
XMin: 330000.0174010582
YMin: 2189999.828010373
XMax: 459000.0174010582
YMax: 2288999.828010373
Spatial Reference: 2244
(2965)
Full Extent:
XMin: 330000.0174010582
YMin: 2189999.828010373
XMax: 459000.0174010582
YMax: 2288999.828010373
Spatial Reference: 2244
(2965)
Pixel Size X: 0.5
Pixel Size Y: 0.5
Band Count: 3
Pixel Type: U8
RasterFunction Infos: {"rasterFunctionInfos": [{
"name": "None",
"description": "",
"help": ""
}]}
Mensuration Capabilities: Basic
Has Histograms: true
Has Colormap: false
Has Multi Dimensions : false
Rendering Rule:
Min Scale: 250000
Max Scale: 250
Min LOD: 0
Max LOD: 10
Copyright Text: Created by Sanborn, Inc., 2003. Published by Noble County GIS Dept., Noble County, IN, 2024.
Service Data Type: esriImageServiceDataTypeRGB
Min Values: 0, 0, 0
Max Values: 255, 255, 255
Mean Values: 163.0421316161463, 161.94518286254765, 155.59094983488768
Standard Deviation Values: 25.31904837141679, 24.92531002284255, 25.95389708417094
Object ID Field:
Fields:
None
Default Mosaic Method: Center
Allowed Mosaic Methods:
SortField:
SortValue: null
Mosaic Operator: First
Default Compression Quality: 75
Default Resampling Method: Bilinear
Max Record Count: null
Max Image Height: 4100
Max Image Width: 15000
Max Download Image Count: null
Max Mosaic Image Count: null
Allow Raster Function: true
Allow Copy: true
Allow Analysis: true
Allow Compute TiePoints: false
Supports Statistics: false
Supports Advanced Queries: false
Use StandardizedQueries: true
Raster Type Infos:
Name: Raster Dataset
Description: Supports all ArcGIS Raster Datasets
Help:
Has Raster Attribute Table: false
Edit Fields Info: null
Ownership Based AccessControl For Rasters: null
Child Resources:
Info
Histograms
Statistics
Key Properties
Legend
Raster Function Infos
Supported Operations:
Export Image
Identify
Measure
Compute Histograms
Compute Statistics Histograms
Get Samples
Compute Class Statistics
Query Boundary
Compute Pixel Location
Compute Angles
Validate
Project