View In:
ArcGIS JavaScript
ArcGIS Online Map Viewer
ArcGIS Earth
ArcMap
View Footprint In:
ArcGIS Online Map Viewer
Service Description: Spring 2008 orthos produced by the Pictometry Corp. (EagleView, Inc.). Imagery resolution is 6.75 pixel. Map service created by FAV on 5/30/2024. Map service published to Noble County's Portal site on the gisserver using the following ArcGIS Pro aprx: "gisserver\D:\ArcGISProProjects\Orthos2008_Pro\Orthos2008_Pro.aprx". Imagery data resides in the Orthos2008.sde.ORTHOS2008 raster within the Orthos2008 enterprise geodatabase on the ncgisserver SQL server located on the gisserver.
Name: Orthos2008_UD1_Pro
Description: Spring 2008 orthos produced by the Pictometry Corp. (EagleView, Inc.). Imagery resolution is 6.75 pixel. Map service created by FAV on 5/30/2024. Map service published to Noble County's Portal site on the gisserver using the following ArcGIS Pro aprx: "gisserver\D:\ArcGISProProjects\Orthos2008_Pro\Orthos2008_Pro.aprx". Imagery data resides in the Orthos2008.sde.ORTHOS2008 raster within the Orthos2008 enterprise geodatabase on the ncgisserver SQL server located on the gisserver.
Single Fused Map Cache: true
Tile Info:
- Height: 256
- Width: 256
- DPI: 96
-
Levels of Detail: 11
- Format: MIXED
- Compression Quality: 75.0
- LERC Error: NaN
- Origin: X: -1.81198E7
Y: 2.00127E7
- Spatial Reference: 2244
(2965)
Storage Info:
- Storage Format: esriMapCacheStorageModeCompactV2
- Packet Size: 128
Extent:
XMin: 328221.3299010582
YMin: 2188171.265510373
XMax: 461337.5174010582
YMax: 2289353.203010373
Spatial Reference: 2244
(2965)
Initial Extent:
XMin: 328221.3299010582
YMin: 2188171.265510373
XMax: 461337.5174010582
YMax: 2289353.203010373
Spatial Reference: 2244
(2965)
Full Extent:
XMin: 328221.3299010582
YMin: 2188171.265510373
XMax: 461337.5174010582
YMax: 2289353.203010373
Spatial Reference: 2244
(2965)
Pixel Size X: 0.5625
Pixel Size Y: 0.5625
Band Count: 3
Pixel Type: U8
RasterFunction Infos: {"rasterFunctionInfos": [{
"name": "None",
"description": "",
"help": ""
}]}
Mensuration Capabilities: Basic
Has Histograms: true
Has Colormap: false
Has Multi Dimensions : false
Rendering Rule:
Min Scale: 250000
Max Scale: 250
Copyright Text: Created by EagleView, Inc., 2008. Published by Noble County GIS Dept., Noble County, IN, 2024
Service Data Type: esriImageServiceDataTypeRGB
Min Values: 0, 0, 0
Max Values: 255, 255, 255
Mean Values: 136.50309457007327, 135.07338060384174, 119.85865773283689
Standard Deviation Values: 45.62607208193599, 43.68696520614391, 45.89275544596185
Object ID Field:
Fields:
None
Default Mosaic Method: Center
Allowed Mosaic Methods:
SortField:
SortValue: null
Mosaic Operator: First
Default Compression Quality: 75
Default Resampling Method: Bilinear
Max Record Count: null
Max Image Height: 4100
Max Image Width: 15000
Max Download Image Count: null
Max Mosaic Image Count: null
Allow Raster Function: true
Allow Copy: true
Allow Analysis: true
Allow Compute TiePoints: false
Supports Statistics: false
Supports Advanced Queries: false
Use StandardizedQueries: true
Raster Type Infos:
Name: Raster Dataset
Description: Supports all ArcGIS Raster Datasets
Help:
Has Raster Attribute Table: false
Edit Fields Info: null
Ownership Based AccessControl For Rasters: null
Child Resources:
Info
Histograms
Statistics
Key Properties
Legend
Raster Function Infos
Supported Operations:
Export Image
Identify
Measure
Compute Histograms
Compute Statistics Histograms
Get Samples
Compute Class Statistics
Query Boundary
Compute Pixel Location
Compute Angles
Validate
Project