View In:
ArcGIS JavaScript
ArcGIS Online Map Viewer
ArcGIS Earth
ArcMap
View Footprint In:
ArcGIS Online Map Viewer
Service Description: 2012 spring ortho imagery map service created by FAV on 05/31/2024. Imagery prepared by Woolpert and obtained by IGIC. Imagery resolution is 1 foot pixel, 4-band color imagery. Source imagery provided by the Orthos2012.sde.ORTHOS2012 raster dataset stored in the Orthos2012 database located in the ncgisserver SQL Server instance located on the gisserver. Map service published from the following ArcGIS Pro project: "\\gisserver\D:\ArcGISProProjects\Orthos2012_Pro\Orthos2012_Pro.aprx" located on gisserver.
Name: Orthos2012State_Pro
Description: 2012 spring ortho imagery map service created by FAV on 05/31/2024. Imagery prepared by Woolpert and obtained by IGIC. Imagery resolution is 1 foot pixel, 4-band color imagery. Source imagery provided by the Orthos2012.sde.ORTHOS2012 raster dataset stored in the Orthos2012 database located in the ncgisserver SQL Server instance located on the gisserver. Map service published from the following ArcGIS Pro project: "\\gisserver\D:\ArcGISProProjects\Orthos2012_Pro\Orthos2012_Pro.aprx" located on gisserver.
Single Fused Map Cache: true
Tile Info:
- Height: 256
- Width: 256
- DPI: 96
-
Levels of Detail: 11
- Format: MIXED
- Compression Quality: 75.0
- LERC Error: NaN
- Origin: X: -1.81198E7
Y: 2.00127E7
- Spatial Reference: 2244
(2965)
Storage Info:
- Storage Format: esriMapCacheStorageModeCompactV2
- Packet Size: 128
Extent:
XMin: 330000.0174010582
YMin: 2189999.828010373
XMax: 460000.0174010582
YMax: 2289999.828010373
Spatial Reference: 2244
(2965)
Initial Extent:
XMin: 330000.0174010582
YMin: 2189999.828010373
XMax: 460000.0174010582
YMax: 2289999.828010373
Spatial Reference: 2244
(2965)
Full Extent:
XMin: 330000.0174010582
YMin: 2189999.828010373
XMax: 460000.0174010582
YMax: 2289999.828010373
Spatial Reference: 2244
(2965)
Pixel Size X: 0.5
Pixel Size Y: 0.5
Band Count: 4
Pixel Type: U8
RasterFunction Infos: {"rasterFunctionInfos": [{
"name": "None",
"description": "",
"help": ""
}]}
Mensuration Capabilities: Basic
Has Histograms: true
Has Colormap: false
Has Multi Dimensions : false
Rendering Rule:
Min Scale: 250000
Max Scale: 250
Copyright Text: Created by IGIC, 2012. Published by Noble County GIS Dept., Noble County, IN, 2024.
Service Data Type: esriImageServiceDataTypeGeneric
Min Values: 0, 0, 0, 0
Max Values: 255, 255, 255, 255
Mean Values: 142.7487905282939, 137.7952008465526, 127.39409561491696, 130.07060458410166
Standard Deviation Values: 30.778880635674316, 30.204665643764393, 31.564034397902727, 31.95729867818347
Object ID Field:
Fields:
None
Default Mosaic Method: Center
Allowed Mosaic Methods:
SortField:
SortValue: null
Mosaic Operator: First
Default Compression Quality: 75
Default Resampling Method: Bilinear
Max Record Count: null
Max Image Height: 4100
Max Image Width: 15000
Max Download Image Count: null
Max Mosaic Image Count: null
Allow Raster Function: true
Allow Copy: true
Allow Analysis: true
Allow Compute TiePoints: false
Supports Statistics: false
Supports Advanced Queries: false
Use StandardizedQueries: true
Raster Type Infos:
Name: Raster Dataset
Description: Supports all ArcGIS Raster Datasets
Help:
Has Raster Attribute Table: false
Edit Fields Info: null
Ownership Based AccessControl For Rasters: null
Child Resources:
Info
Histograms
Statistics
Key Properties
Legend
Raster Function Infos
Supported Operations:
Export Image
Identify
Measure
Compute Histograms
Compute Statistics Histograms
Get Samples
Compute Class Statistics
Query Boundary
Compute Pixel Location
Compute Angles
Validate
Project