View In:
ArcGIS JavaScript
ArcGIS Online Map Viewer
ArcGIS Earth
ArcMap
View Footprint In:
ArcGIS Online Map Viewer
Service Description: 2014 spring ortho imagery map service created by FAV on 05/31/2024. Imagery prepared by Pictometry (EagleView, Inc.) and obtained by the Noble County GIS Dept. Imagery resolution is 4 inch pixel, 3-band color imagery. Source imagery provided by the Orthos2014.sde.ORTHOS2014 raster dataset stored in the Orthos2014 database located in the ncgisserver SQL Server instance located on the gisserver. Map service published from the following ArcGIS Pro project: "\\gisserver\D:\ArcGISProProjects\Orthos2014_Pro\Orthos2014_Pro.aprx" located on gisserver.
Name: Orthos2014_Pro
Description: 2014 spring ortho imagery map service created by FAV on 05/31/2024. Imagery prepared by Pictometry (EagleView, Inc.) and obtained by the Noble County GIS Dept. Imagery resolution is 4 inch pixel, 3-band color imagery. Source imagery provided by the Orthos2014.sde.ORTHOS2014 raster dataset stored in the Orthos2014 database located in the ncgisserver SQL Server instance located on the gisserver. Map service published from the following ArcGIS Pro project: "\\gisserver\D:\ArcGISProProjects\Orthos2014_Pro\Orthos2014_Pro.aprx" located on gisserver.
Single Fused Map Cache: true
Tile Info:
- Height: 256
- Width: 256
- DPI: 96
-
Levels of Detail: 11
- Format: MIXED
- Compression Quality: 75.0
- LERC Error: NaN
- Origin: X: -1.81198E7
Y: 2.00127E7
- Spatial Reference: 2244
(2965)
Storage Info:
- Storage Format: esriMapCacheStorageModeCompactV2
- Packet Size: 128
Extent:
XMin: 326183.24253942445
YMin: 2190459.4269101396
XMax: 458893.24056189135
YMax: 2291104.4254104123
Spatial Reference: 2244
(2965)
Initial Extent:
XMin: 326183.24253942445
YMin: 2190459.4269101396
XMax: 458893.24056189135
YMax: 2291104.4254104123
Spatial Reference: 2244
(2965)
Full Extent:
XMin: 326183.24253942445
YMin: 2190459.4269101396
XMax: 458893.24056189135
YMax: 2291104.4254104123
Spatial Reference: 2244
(2965)
Pixel Size X: 0.3333333283662796
Pixel Size Y: 0.3333333283662796
Band Count: 3
Pixel Type: U8
RasterFunction Infos: {"rasterFunctionInfos": [{
"name": "None",
"description": "",
"help": ""
}]}
Mensuration Capabilities: Basic
Has Histograms: true
Has Colormap: false
Has Multi Dimensions : false
Rendering Rule:
Min Scale: 250000
Max Scale: 250
Copyright Text: Created by EagleView, Inc., 2014. Published by Noble County GIS Dept., 2024.
Service Data Type: esriImageServiceDataTypeRGB
Min Values: 0, 0, 0
Max Values: 255, 255, 255
Mean Values: 147.83033731455905, 138.3282871981495, 121.91795754374361
Standard Deviation Values: 46.83795925206828, 45.45090247288059, 48.45676662100243
Object ID Field:
Fields:
None
Default Mosaic Method: Center
Allowed Mosaic Methods:
SortField:
SortValue: null
Mosaic Operator: First
Default Compression Quality: 75
Default Resampling Method: Bilinear
Max Record Count: null
Max Image Height: 4100
Max Image Width: 15000
Max Download Image Count: null
Max Mosaic Image Count: null
Allow Raster Function: true
Allow Copy: true
Allow Analysis: true
Allow Compute TiePoints: false
Supports Statistics: false
Supports Advanced Queries: false
Use StandardizedQueries: true
Raster Type Infos:
Name: Raster Dataset
Description: Supports all ArcGIS Raster Datasets
Help:
Has Raster Attribute Table: false
Edit Fields Info: null
Ownership Based AccessControl For Rasters: null
Child Resources:
Info
Histograms
Statistics
Key Properties
Legend
Raster Function Infos
Supported Operations:
Export Image
Identify
Measure
Compute Histograms
Compute Statistics Histograms
Get Samples
Compute Class Statistics
Query Boundary
Compute Pixel Location
Compute Angles
Validate
Project